Back to Build/check report for BioC 3.14 experimental data
AB[C]DEFGHIJKLMNOPQRSTUVWXYZ

This page was generated on 2021-10-16 15:51:45 -0400 (Sat, 16 Oct 2021).

All results for package COSMIC.67

To the developers/maintainers of the COSMIC.67 package:
Make sure to use the following settings in order to reproduce any error or warning you see on this page.

raw results

Package 75/404HostnameOS / ArchINSTALLBUILDCHECK
COSMIC.67 1.29.0  (landing page)
Julian Gehring
Snapshot Date: 2021-10-16 09:30:02 -0400 (Sat, 16 Oct 2021)
git_url: https://git.bioconductor.org/packages/COSMIC.67
git_branch: master
git_last_commit: 0c674b6
git_last_commit_date: 2021-05-19 11:44:53 -0400 (Wed, 19 May 2021)
nebbiolo2Linux (Ubuntu 20.04.2 LTS) / x86_64  OK    OK    OK  UNNEEDED, same version is already published