Back to Build/check report for BioC 3.15 experimental data
AB[C]DEFGHIJKLMNOPQRSTUVWXYZ

This page was generated on 2021-11-28 18:35:03 -0500 (Sun, 28 Nov 2021).

BUILD results for COPDSexualDimorphism.data on nebbiolo2

To the developers/maintainers of the COPDSexualDimorphism.data package:
Make sure to use the following settings in order to reproduce any error or warning you see on this page.

raw results

Package 70/404HostnameOS / ArchINSTALLBUILDCHECK
COPDSexualDimorphism.data 1.31.0  (landing page)
J Fah Sathirapongsasuti
Snapshot Date: 2021-11-28 08:30:02 -0500 (Sun, 28 Nov 2021)
git_url: https://git.bioconductor.org/packages/COPDSexualDimorphism.data
git_branch: master
git_last_commit: 50af685
git_last_commit_date: 2021-10-26 12:08:45 -0500 (Tue, 26 Oct 2021)
nebbiolo2Linux (Ubuntu 20.04.3 LTS) / x86_64  OK    OK    WARNINGS  UNNEEDED, same version is already published

Summary

Package: COPDSexualDimorphism.data
Version: 1.31.0
Command: /home/biocbuild/bbs-3.15-data-experiment/R/bin/R CMD build --keep-empty-dirs --no-resave-data COPDSexualDimorphism.data
StartedAt: 2021-11-28 14:13:31 -0500 (Sun, 28 Nov 2021)
EndedAt: 2021-11-28 14:13:36 -0500 (Sun, 28 Nov 2021)
EllapsedTime: 5.2 seconds
RetCode: 0
Status:   OK  
PackageFile: COPDSexualDimorphism.data_1.31.0.tar.gz
PackageFileSize: 34.29 MiB

Command output

##############################################################################
##############################################################################
###
### Running command:
###
###   /home/biocbuild/bbs-3.15-data-experiment/R/bin/R CMD build --keep-empty-dirs --no-resave-data COPDSexualDimorphism.data
###
##############################################################################
##############################################################################


* checking for file ‘COPDSexualDimorphism.data/DESCRIPTION’ ... OK
* preparing ‘COPDSexualDimorphism.data’:
* checking DESCRIPTION meta-information ... OK
* installing the package to build vignettes
* creating vignettes ... OK
* checking for LF line-endings in source and make files and shell scripts
* checking for empty or unneeded directories
* looking to see if a ‘data/datalist’ file should be added
* building ‘COPDSexualDimorphism.data_1.31.0.tar.gz’