Back to Build/check report for BioC 3.14 experimental data
AB[C]DEFGHIJKLMNOPQRSTUVWXYZ

This page was generated on 2021-10-16 15:51:46 -0400 (Sat, 16 Oct 2021).

BUILD results for CLLmethylation on nebbiolo2

To the developers/maintainers of the CLLmethylation package:
Make sure to use the following settings in order to reproduce any error or warning you see on this page.

raw results

Package 63/404HostnameOS / ArchINSTALLBUILDCHECK
CLLmethylation 1.13.0  (landing page)
Malgorzata Oles , Andreas Mock
Snapshot Date: 2021-10-16 09:30:02 -0400 (Sat, 16 Oct 2021)
git_url: https://git.bioconductor.org/packages/CLLmethylation
git_branch: master
git_last_commit: 5339bff
git_last_commit_date: 2021-05-19 12:04:11 -0400 (Wed, 19 May 2021)
nebbiolo2Linux (Ubuntu 20.04.2 LTS) / x86_64  OK    OK    OK  UNNEEDED, same version is already published

Summary

Package: CLLmethylation
Version: 1.13.0
Command: /home/biocbuild/bbs-3.14-bioc/R/bin/R CMD build --keep-empty-dirs --no-resave-data CLLmethylation
StartedAt: 2021-10-16 11:12:09 -0400 (Sat, 16 Oct 2021)
EndedAt: 2021-10-16 11:13:02 -0400 (Sat, 16 Oct 2021)
EllapsedTime: 52.8 seconds
RetCode: 0
Status:   OK  
PackageFile: CLLmethylation_1.13.0.tar.gz
PackageFileSize: 316.1 KiB

Command output

##############################################################################
##############################################################################
###
### Running command:
###
###   /home/biocbuild/bbs-3.14-bioc/R/bin/R CMD build --keep-empty-dirs --no-resave-data CLLmethylation
###
##############################################################################
##############################################################################


* checking for file ‘CLLmethylation/DESCRIPTION’ ... OK
* preparing ‘CLLmethylation’:
* checking DESCRIPTION meta-information ... OK
* installing the package to build vignettes
* creating vignettes ... OK
* checking for LF line-endings in source and make files and shell scripts
* checking for empty or unneeded directories
Omitted ‘LazyData’ from DESCRIPTION
* building ‘CLLmethylation_1.13.0.tar.gz’