Back to Build/check report for BioC 3.14 experimental data
AB[C]DEFGHIJKLMNOPQRSTUVWXYZ

This page was generated on 2021-10-21 15:52:03 -0400 (Thu, 21 Oct 2021).

BUILD results for CLL on nebbiolo2

To the developers/maintainers of the CLL package:
Make sure to use the following settings in order to reproduce any error or warning you see on this page.

raw results

Package 62/406HostnameOS / ArchINSTALLBUILDCHECK
CLL 1.33.0  (landing page)
Robert Gentleman
Snapshot Date: 2021-10-21 09:30:01 -0400 (Thu, 21 Oct 2021)
git_url: https://git.bioconductor.org/packages/CLL
git_branch: master
git_last_commit: 5c0f634
git_last_commit_date: 2021-05-19 11:23:29 -0400 (Wed, 19 May 2021)
nebbiolo2Linux (Ubuntu 20.04.2 LTS) / x86_64  OK    OK    OK  UNNEEDED, same version is already published

Summary

Package: CLL
Version: 1.33.0
Command: /home/biocbuild/bbs-3.14-bioc/R/bin/R CMD build --keep-empty-dirs --no-resave-data CLL
StartedAt: 2021-10-21 11:12:22 -0400 (Thu, 21 Oct 2021)
EndedAt: 2021-10-21 11:12:26 -0400 (Thu, 21 Oct 2021)
EllapsedTime: 3.5 seconds
RetCode: 0
Status:   OK  
PackageFile: CLL_1.33.0.tar.gz
PackageFileSize: 15.89 MiB

Command output

##############################################################################
##############################################################################
###
### Running command:
###
###   /home/biocbuild/bbs-3.14-bioc/R/bin/R CMD build --keep-empty-dirs --no-resave-data CLL
###
##############################################################################
##############################################################################


* checking for file ‘CLL/DESCRIPTION’ ... OK
* preparing ‘CLL’:
* checking DESCRIPTION meta-information ... OK
* checking for LF line-endings in source and make files and shell scripts
* checking for empty or unneeded directories
* looking to see if a ‘data/datalist’ file should be added
* building ‘CLL_1.33.0.tar.gz’