Back to Build/check report for BioC 3.14 experimental data
A[B]CDEFGHIJKLMNOPQRSTUVWXYZ

This page was generated on 2021-10-16 15:51:45 -0400 (Sat, 16 Oct 2021).

BUILD results for BioImageDbs on nebbiolo2

To the developers/maintainers of the BioImageDbs package:
Make sure to use the following settings in order to reproduce any error or warning you see on this page.

raw results

Package 28/404HostnameOS / ArchINSTALLBUILDCHECK
BioImageDbs 1.1.2  (landing page)
Satoshi Kume
Snapshot Date: 2021-10-16 09:30:02 -0400 (Sat, 16 Oct 2021)
git_url: https://git.bioconductor.org/packages/BioImageDbs
git_branch: master
git_last_commit: d89c52b
git_last_commit_date: 2021-09-18 14:34:16 -0400 (Sat, 18 Sep 2021)
nebbiolo2Linux (Ubuntu 20.04.2 LTS) / x86_64  OK    OK    OK  UNNEEDED, same version is already published

Summary

Package: BioImageDbs
Version: 1.1.2
Command: /home/biocbuild/bbs-3.14-bioc/R/bin/R CMD build --keep-empty-dirs --no-resave-data BioImageDbs
StartedAt: 2021-10-16 11:10:18 -0400 (Sat, 16 Oct 2021)
EndedAt: 2021-10-16 11:10:47 -0400 (Sat, 16 Oct 2021)
EllapsedTime: 28.9 seconds
RetCode: 0
Status:   OK  
PackageFile: BioImageDbs_1.1.2.tar.gz
PackageFileSize: 11.59 MiB

Command output

##############################################################################
##############################################################################
###
### Running command:
###
###   /home/biocbuild/bbs-3.14-bioc/R/bin/R CMD build --keep-empty-dirs --no-resave-data BioImageDbs
###
##############################################################################
##############################################################################


* checking for file ‘BioImageDbs/DESCRIPTION’ ... OK
* preparing ‘BioImageDbs’:
* checking DESCRIPTION meta-information ... OK
* installing the package to process help pages
* saving partial Rd database
* creating vignettes ... OK
* checking for LF line-endings in source and make files and shell scripts
* checking for empty or unneeded directories
* creating default NAMESPACE file
* building ‘BioImageDbs_1.1.2.tar.gz’