Back to Build/check report for BioC 3.14 experimental data
A[B]CDEFGHIJKLMNOPQRSTUVWXYZ

This page was generated on 2021-10-16 15:51:45 -0400 (Sat, 16 Oct 2021).

INSTALL results for BeadArrayUseCases on nebbiolo2

To the developers/maintainers of the BeadArrayUseCases package:
Make sure to use the following settings in order to reproduce any error or warning you see on this page.

raw results

Package 24/404HostnameOS / ArchINSTALLBUILDCHECK
BeadArrayUseCases 1.31.1  (landing page)
Mike Smith
Snapshot Date: 2021-10-16 09:30:02 -0400 (Sat, 16 Oct 2021)
git_url: https://git.bioconductor.org/packages/BeadArrayUseCases
git_branch: master
git_last_commit: c441ec7
git_last_commit_date: 2021-07-26 11:31:56 -0400 (Mon, 26 Jul 2021)
nebbiolo2Linux (Ubuntu 20.04.2 LTS) / x86_64  OK    OK    OK  UNNEEDED, same version is already published

Summary

Package: BeadArrayUseCases
Version: 1.31.1
Command: /home/biocbuild/bbs-3.14-bioc/R/bin/R CMD INSTALL BeadArrayUseCases
StartedAt: 2021-10-16 11:06:00 -0400 (Sat, 16 Oct 2021)
EndedAt: 2021-10-16 11:06:09 -0400 (Sat, 16 Oct 2021)
EllapsedTime: 8.9 seconds
RetCode: 0
Status:   OK  

Command output

##############################################################################
##############################################################################
###
### Running command:
###
###   /home/biocbuild/bbs-3.14-bioc/R/bin/R CMD INSTALL BeadArrayUseCases
###
##############################################################################
##############################################################################


* installing to library ‘/home/biocbuild/bbs-3.14-bioc/R/library’
* installing *source* package ‘BeadArrayUseCases’ ...
** using staged installation
** inst
** help
No man pages found in package  ‘BeadArrayUseCases’ 
*** installing help indices
** building package indices
** installing vignettes
** testing if installed package can be loaded from temporary location
** testing if installed package can be loaded from final location
** testing if installed package keeps a record of temporary installation path
* DONE (BeadArrayUseCases)