Back to Build/check report for BioC 3.14 experimental data
[A]BCDEFGHIJKLMNOPQRSTUVWXYZ

This page was generated on 2021-10-21 15:52:03 -0400 (Thu, 21 Oct 2021).

BUILD results for AssessORFData on nebbiolo2

To the developers/maintainers of the AssessORFData package:
Make sure to use the following settings in order to reproduce any error or warning you see on this page.

raw results

Package 21/406HostnameOS / ArchINSTALLBUILDCHECK
AssessORFData 1.11.0  (landing page)
Deepank Korandla
Snapshot Date: 2021-10-21 09:30:01 -0400 (Thu, 21 Oct 2021)
git_url: https://git.bioconductor.org/packages/AssessORFData
git_branch: master
git_last_commit: 366be35
git_last_commit_date: 2021-05-19 12:06:48 -0400 (Wed, 19 May 2021)
nebbiolo2Linux (Ubuntu 20.04.2 LTS) / x86_64  OK    OK    OK  UNNEEDED, same version is already published

Summary

Package: AssessORFData
Version: 1.11.0
Command: /home/biocbuild/bbs-3.14-bioc/R/bin/R CMD build --keep-empty-dirs --no-resave-data AssessORFData
StartedAt: 2021-10-21 11:10:21 -0400 (Thu, 21 Oct 2021)
EndedAt: 2021-10-21 11:11:38 -0400 (Thu, 21 Oct 2021)
EllapsedTime: 76.2 seconds
RetCode: 0
Status:   OK  
PackageFile: AssessORFData_1.11.0.tar.gz
PackageFileSize: 144.6 MiB

Command output

##############################################################################
##############################################################################
###
### Running command:
###
###   /home/biocbuild/bbs-3.14-bioc/R/bin/R CMD build --keep-empty-dirs --no-resave-data AssessORFData
###
##############################################################################
##############################################################################


* checking for file ‘AssessORFData/DESCRIPTION’ ... OK
* preparing ‘AssessORFData’:
* checking DESCRIPTION meta-information ... OK
* installing the package to build vignettes
* creating vignettes ... OK
* checking for LF line-endings in source and make files and shell scripts
* checking for empty or unneeded directories
* looking to see if a ‘data/datalist’ file should be added
* building ‘AssessORFData_1.11.0.tar.gz’