Back to Build/check report for BioC 3.14 experimental data
[A]BCDEFGHIJKLMNOPQRSTUVWXYZ

This page was generated on 2021-10-16 15:51:45 -0400 (Sat, 16 Oct 2021).

CHECK results for AshkenazimSonChr21 on nebbiolo2

To the developers/maintainers of the AshkenazimSonChr21 package:
Make sure to use the following settings in order to reproduce any error or warning you see on this page.

raw results

Package 19/404HostnameOS / ArchINSTALLBUILDCHECK
AshkenazimSonChr21 1.23.0  (landing page)
Who to complain to
Snapshot Date: 2021-10-16 09:30:02 -0400 (Sat, 16 Oct 2021)
git_url: https://git.bioconductor.org/packages/AshkenazimSonChr21
git_branch: master
git_last_commit: 0b2ca6e
git_last_commit_date: 2021-05-19 11:51:56 -0400 (Wed, 19 May 2021)
nebbiolo2Linux (Ubuntu 20.04.2 LTS) / x86_64  OK    OK    OK  UNNEEDED, same version is already published

Summary

Package: AshkenazimSonChr21
Version: 1.23.0
Command: /home/biocbuild/bbs-3.14-bioc/R/bin/R CMD check --install=check:AshkenazimSonChr21.install-out.txt --library=/home/biocbuild/bbs-3.14-bioc/R/library --no-vignettes --timings AshkenazimSonChr21_1.23.0.tar.gz
StartedAt: 2021-10-16 12:05:12 -0400 (Sat, 16 Oct 2021)
EndedAt: 2021-10-16 12:05:21 -0400 (Sat, 16 Oct 2021)
EllapsedTime: 9.0 seconds
RetCode: 0
Status:   OK  
CheckDir: AshkenazimSonChr21.Rcheck
Warnings: 0

Command output

##############################################################################
##############################################################################
###
### Running command:
###
###   /home/biocbuild/bbs-3.14-bioc/R/bin/R CMD check --install=check:AshkenazimSonChr21.install-out.txt --library=/home/biocbuild/bbs-3.14-bioc/R/library --no-vignettes --timings AshkenazimSonChr21_1.23.0.tar.gz
###
##############################################################################
##############################################################################


* using log directory ‘/home/biocbuild/bbs-3.14-data-experiment/meat/AshkenazimSonChr21.Rcheck’
* using R version 4.1.1 (2021-08-10)
* using platform: x86_64-pc-linux-gnu (64-bit)
* using session charset: UTF-8
* using option ‘--no-vignettes’
* checking for file ‘AshkenazimSonChr21/DESCRIPTION’ ... OK
* checking extension type ... Package
* this is package ‘AshkenazimSonChr21’ version ‘1.23.0’
* checking package namespace information ... OK
* checking package dependencies ... OK
* checking if this is a source package ... OK
* checking if there is a namespace ... OK
* checking for hidden files and directories ... OK
* checking for portable file names ... OK
* checking for sufficient/correct file permissions ... OK
* checking whether package ‘AshkenazimSonChr21’ can be installed ... OK
* checking installed package size ... NOTE
  installed size is  9.6Mb
  sub-directories of 1Mb or more:
    data      2.4Mb
    extdata   7.2Mb
* checking package directory ... OK
* checking ‘build’ directory ... OK
* checking DESCRIPTION meta-information ... OK
* checking top-level files ... OK
* checking for left-over files ... OK
* checking index information ... OK
* checking package subdirectories ... OK
* checking whether the package can be loaded ... OK
* checking whether the package can be loaded with stated dependencies ... OK
* checking whether the package can be unloaded cleanly ... OK
* checking whether the namespace can be loaded with stated dependencies ... OK
* checking whether the namespace can be unloaded cleanly ... OK
* checking Rd files ... OK
* checking Rd metadata ... OK
* checking Rd cross-references ... OK
* checking for missing documentation entries ... OK
* checking for code/documentation mismatches ... OK
* checking Rd \usage sections ... OK
* checking Rd contents ... OK
* checking for unstated dependencies in examples ... OK
* checking contents of ‘data’ directory ... OK
* checking data for non-ASCII characters ... OK
* checking LazyData ... OK
* checking data for ASCII and uncompressed saves ... OK
* checking files in ‘vignettes’ ... OK
* checking examples ... NONE
* checking for unstated dependencies in vignettes ... OK
* checking package vignettes in ‘inst/doc’ ... OK
* checking running R code from vignettes ... SKIPPED
* checking re-building of vignette outputs ... SKIPPED
* checking PDF version of manual ... OK
* DONE

Status: 1 NOTE
See
  ‘/home/biocbuild/bbs-3.14-data-experiment/meat/AshkenazimSonChr21.Rcheck/00check.log’
for details.



Installation output

AshkenazimSonChr21.Rcheck/00install.out

##############################################################################
##############################################################################
###
### Running command:
###
###   /home/biocbuild/bbs-3.14-bioc/R/bin/R CMD INSTALL AshkenazimSonChr21
###
##############################################################################
##############################################################################


* installing to library ‘/home/biocbuild/bbs-3.14-bioc/R/library’
* installing *source* package ‘AshkenazimSonChr21’ ...
** using staged installation
** data
*** moving datasets to lazyload DB
** inst
** help
*** installing help indices
** building package indices
** installing vignettes
** testing if installed package can be loaded from temporary location
** testing if installed package can be loaded from final location
** testing if installed package keeps a record of temporary installation path
* DONE (AshkenazimSonChr21)

Tests output


Example timings