Back to Build/check report for BioC 3.14 experimental data
[A]BCDEFGHIJKLMNOPQRSTUVWXYZ

This page was generated on 2021-10-23 15:51:46 -0400 (Sat, 23 Oct 2021).

BUILD results for AshkenazimSonChr21 on nebbiolo2

To the developers/maintainers of the AshkenazimSonChr21 package:
Make sure to use the following settings in order to reproduce any error or warning you see on this page.

raw results

Package 19/408HostnameOS / ArchINSTALLBUILDCHECK
AshkenazimSonChr21 1.23.0  (landing page)
Who to complain to
Snapshot Date: 2021-10-23 09:30:01 -0400 (Sat, 23 Oct 2021)
git_url: https://git.bioconductor.org/packages/AshkenazimSonChr21
git_branch: master
git_last_commit: 0b2ca6e
git_last_commit_date: 2021-05-19 11:51:56 -0400 (Wed, 19 May 2021)
nebbiolo2Linux (Ubuntu 20.04.2 LTS) / x86_64  OK    OK    OK  UNNEEDED, same version is already published

Summary

Package: AshkenazimSonChr21
Version: 1.23.0
Command: /home/biocbuild/bbs-3.14-bioc/R/bin/R CMD build --keep-empty-dirs --no-resave-data AshkenazimSonChr21
StartedAt: 2021-10-23 11:10:27 -0400 (Sat, 23 Oct 2021)
EndedAt: 2021-10-23 11:10:48 -0400 (Sat, 23 Oct 2021)
EllapsedTime: 20.7 seconds
RetCode: 0
Status:   OK  
PackageFile: AshkenazimSonChr21_1.23.0.tar.gz
PackageFileSize: 9.752 MiB

Command output

##############################################################################
##############################################################################
###
### Running command:
###
###   /home/biocbuild/bbs-3.14-bioc/R/bin/R CMD build --keep-empty-dirs --no-resave-data AshkenazimSonChr21
###
##############################################################################
##############################################################################


* checking for file ‘AshkenazimSonChr21/DESCRIPTION’ ... OK
* preparing ‘AshkenazimSonChr21’:
* checking DESCRIPTION meta-information ... OK
* installing the package to build vignettes
* creating vignettes ... OK
* checking for LF line-endings in source and make files and shell scripts
* checking for empty or unneeded directories
* building ‘AshkenazimSonChr21_1.23.0.tar.gz’