Back to Build/check report for BioC 3.14 experimental data
[A]BCDEFGHIJKLMNOPQRSTUVWXYZ

This page was generated on 2021-10-23 15:51:46 -0400 (Sat, 23 Oct 2021).

INSTALL results for AmpAffyExample on nebbiolo2

To the developers/maintainers of the AmpAffyExample package:
Make sure to use the following settings in order to reproduce any error or warning you see on this page.

raw results

Package 14/408HostnameOS / ArchINSTALLBUILDCHECK
AmpAffyExample 1.33.0  (landing page)
Rafael A. Irizarry
Snapshot Date: 2021-10-23 09:30:01 -0400 (Sat, 23 Oct 2021)
git_url: https://git.bioconductor.org/packages/AmpAffyExample
git_branch: master
git_last_commit: 4bcc87e
git_last_commit_date: 2021-05-19 11:23:16 -0400 (Wed, 19 May 2021)
nebbiolo2Linux (Ubuntu 20.04.2 LTS) / x86_64  OK    OK    WARNINGS  UNNEEDED, same version is already published

Summary

Package: AmpAffyExample
Version: 1.33.0
Command: /home/biocbuild/bbs-3.14-bioc/R/bin/R CMD INSTALL AmpAffyExample
StartedAt: 2021-10-23 11:01:01 -0400 (Sat, 23 Oct 2021)
EndedAt: 2021-10-23 11:01:04 -0400 (Sat, 23 Oct 2021)
EllapsedTime: 2.5 seconds
RetCode: 0
Status:   OK  

Command output

##############################################################################
##############################################################################
###
### Running command:
###
###   /home/biocbuild/bbs-3.14-bioc/R/bin/R CMD INSTALL AmpAffyExample
###
##############################################################################
##############################################################################


* installing to library ‘/home/biocbuild/bbs-3.14-bioc/R/library’
* installing *source* package ‘AmpAffyExample’ ...
** using staged installation
** data
** help
*** installing help indices
** building package indices
** testing if installed package can be loaded from temporary location
** testing if installed package can be loaded from final location
** testing if installed package keeps a record of temporary installation path
* DONE (AmpAffyExample)