Back to Build/check report for BioC 3.14 experimental data
[A]BCDEFGHIJKLMNOPQRSTUVWXYZ

This page was generated on 2021-10-16 15:51:45 -0400 (Sat, 16 Oct 2021).

BUILD results for Affymoe4302Expr on nebbiolo2

To the developers/maintainers of the Affymoe4302Expr package:
Make sure to use the following settings in order to reproduce any error or warning you see on this page.

raw results

Package 9/404HostnameOS / ArchINSTALLBUILDCHECK
Affymoe4302Expr 1.31.0  (landing page)
Zhicheng Ji
Snapshot Date: 2021-10-16 09:30:02 -0400 (Sat, 16 Oct 2021)
git_url: https://git.bioconductor.org/packages/Affymoe4302Expr
git_branch: master
git_last_commit: 8e8eec8
git_last_commit_date: 2021-05-19 11:46:05 -0400 (Wed, 19 May 2021)
nebbiolo2Linux (Ubuntu 20.04.2 LTS) / x86_64  OK    OK    OK  UNNEEDED, same version is already published

Summary

Package: Affymoe4302Expr
Version: 1.31.0
Command: /home/biocbuild/bbs-3.14-bioc/R/bin/R CMD build --keep-empty-dirs --no-resave-data Affymoe4302Expr
StartedAt: 2021-10-16 11:09:55 -0400 (Sat, 16 Oct 2021)
EndedAt: 2021-10-16 11:10:19 -0400 (Sat, 16 Oct 2021)
EllapsedTime: 24.5 seconds
RetCode: 0
Status:   OK  
PackageFile: Affymoe4302Expr_1.31.0.tar.gz
PackageFileSize: 417.6 MiB

Command output

##############################################################################
##############################################################################
###
### Running command:
###
###   /home/biocbuild/bbs-3.14-bioc/R/bin/R CMD build --keep-empty-dirs --no-resave-data Affymoe4302Expr
###
##############################################################################
##############################################################################


* checking for file ‘Affymoe4302Expr/DESCRIPTION’ ... OK
* preparing ‘Affymoe4302Expr’:
* checking DESCRIPTION meta-information ... OK
* checking for LF line-endings in source and make files and shell scripts
* checking for empty or unneeded directories
* looking to see if a ‘data/datalist’ file should be added
* building ‘Affymoe4302Expr_1.31.0.tar.gz’