Back to Build/check report for BioC 3.14 experimental data
[A]BCDEFGHIJKLMNOPQRSTUVWXYZ

This page was generated on 2021-10-23 15:51:46 -0400 (Sat, 23 Oct 2021).

INSTALL results for Affyhgu133aExpr on nebbiolo2

To the developers/maintainers of the Affyhgu133aExpr package:
Make sure to use the following settings in order to reproduce any error or warning you see on this page.

raw results

Package 6/408HostnameOS / ArchINSTALLBUILDCHECK
Affyhgu133aExpr 1.31.0  (landing page)
Zhicheng Ji
Snapshot Date: 2021-10-23 09:30:01 -0400 (Sat, 23 Oct 2021)
git_url: https://git.bioconductor.org/packages/Affyhgu133aExpr
git_branch: master
git_last_commit: bc3d806
git_last_commit_date: 2021-05-19 11:45:49 -0400 (Wed, 19 May 2021)
nebbiolo2Linux (Ubuntu 20.04.2 LTS) / x86_64  OK    OK    OK  UNNEEDED, same version is already published

Summary

Package: Affyhgu133aExpr
Version: 1.31.0
Command: /home/biocbuild/bbs-3.14-bioc/R/bin/R CMD INSTALL Affyhgu133aExpr
StartedAt: 2021-10-23 11:00:26 -0400 (Sat, 23 Oct 2021)
EndedAt: 2021-10-23 11:00:28 -0400 (Sat, 23 Oct 2021)
EllapsedTime: 1.3 seconds
RetCode: 0
Status:   OK  

Command output

##############################################################################
##############################################################################
###
### Running command:
###
###   /home/biocbuild/bbs-3.14-bioc/R/bin/R CMD INSTALL Affyhgu133aExpr
###
##############################################################################
##############################################################################


* installing to library ‘/home/biocbuild/bbs-3.14-bioc/R/library’
* installing *source* package ‘Affyhgu133aExpr’ ...
** using staged installation
** data
** inst
** help
*** installing help indices
** building package indices
** testing if installed package can be loaded from temporary location
** testing if installed package can be loaded from final location
** testing if installed package keeps a record of temporary installation path
* DONE (Affyhgu133aExpr)