Back to Build/check report for BioC 3.14 experimental data
[A]BCDEFGHIJKLMNOPQRSTUVWXYZ

This page was generated on 2021-10-16 15:51:45 -0400 (Sat, 16 Oct 2021).

BUILD results for ASICSdata on nebbiolo2

To the developers/maintainers of the ASICSdata package:
Make sure to use the following settings in order to reproduce any error or warning you see on this page.

raw results

Package 20/404HostnameOS / ArchINSTALLBUILDCHECK
ASICSdata 1.13.0  (landing page)
Gaëlle Lefort
Snapshot Date: 2021-10-16 09:30:02 -0400 (Sat, 16 Oct 2021)
git_url: https://git.bioconductor.org/packages/ASICSdata
git_branch: master
git_last_commit: d591aa9
git_last_commit_date: 2021-05-19 12:04:23 -0400 (Wed, 19 May 2021)
nebbiolo2Linux (Ubuntu 20.04.2 LTS) / x86_64  OK    OK    OK  UNNEEDED, same version is already published

Summary

Package: ASICSdata
Version: 1.13.0
Command: /home/biocbuild/bbs-3.14-bioc/R/bin/R CMD build --keep-empty-dirs --no-resave-data ASICSdata
StartedAt: 2021-10-16 11:10:06 -0400 (Sat, 16 Oct 2021)
EndedAt: 2021-10-16 11:10:18 -0400 (Sat, 16 Oct 2021)
EllapsedTime: 12.1 seconds
RetCode: 0
Status:   OK  
PackageFile: ASICSdata_1.13.0.tar.gz
PackageFileSize: 22.05 MiB

Command output

##############################################################################
##############################################################################
###
### Running command:
###
###   /home/biocbuild/bbs-3.14-bioc/R/bin/R CMD build --keep-empty-dirs --no-resave-data ASICSdata
###
##############################################################################
##############################################################################


* checking for file ‘ASICSdata/DESCRIPTION’ ... OK
* preparing ‘ASICSdata’:
* checking DESCRIPTION meta-information ... OK
* installing the package to build vignettes
* creating vignettes ... OK
* checking for LF line-endings in source and make files and shell scripts
* checking for empty or unneeded directories
Omitted ‘LazyData’ from DESCRIPTION
* building ‘ASICSdata_1.13.0.tar.gz’