Back to Build/check report for BioC 3.14 experimental data
[A]BCDEFGHIJKLMNOPQRSTUVWXYZ

This page was generated on 2021-10-21 15:52:03 -0400 (Thu, 21 Oct 2021).

BUILD results for ARRmData on nebbiolo2

To the developers/maintainers of the ARRmData package:
Make sure to use the following settings in order to reproduce any error or warning you see on this page.

raw results

Package 18/406HostnameOS / ArchINSTALLBUILDCHECK
ARRmData 1.29.0  (landing page)
Jean-Philippe Fortin
Snapshot Date: 2021-10-21 09:30:01 -0400 (Thu, 21 Oct 2021)
git_url: https://git.bioconductor.org/packages/ARRmData
git_branch: master
git_last_commit: 13735f2
git_last_commit_date: 2021-05-19 11:39:21 -0400 (Wed, 19 May 2021)
nebbiolo2Linux (Ubuntu 20.04.2 LTS) / x86_64  OK    OK    OK  UNNEEDED, same version is already published

Summary

Package: ARRmData
Version: 1.29.0
Command: /home/biocbuild/bbs-3.14-bioc/R/bin/R CMD build --keep-empty-dirs --no-resave-data ARRmData
StartedAt: 2021-10-21 11:10:18 -0400 (Thu, 21 Oct 2021)
EndedAt: 2021-10-21 11:10:21 -0400 (Thu, 21 Oct 2021)
EllapsedTime: 3.4 seconds
RetCode: 0
Status:   OK  
PackageFile: ARRmData_1.29.0.tar.gz
PackageFileSize: 56.51 MiB

Command output

##############################################################################
##############################################################################
###
### Running command:
###
###   /home/biocbuild/bbs-3.14-bioc/R/bin/R CMD build --keep-empty-dirs --no-resave-data ARRmData
###
##############################################################################
##############################################################################


* checking for file ‘ARRmData/DESCRIPTION’ ... OK
* preparing ‘ARRmData’:
* checking DESCRIPTION meta-information ... OK
* checking for LF line-endings in source and make files and shell scripts
* checking for empty or unneeded directories
* looking to see if a ‘data/datalist’ file should be added
* building ‘ARRmData_1.29.0.tar.gz’