Back to Build/check report for BioC 3.14 experimental data
[A]BCDEFGHIJKLMNOPQRSTUVWXYZ

This page was generated on 2021-10-19 15:52:17 -0400 (Tue, 19 Oct 2021).

BUILD results for ABAData on nebbiolo2

To the developers/maintainers of the ABAData package:
Make sure to use the following settings in order to reproduce any error or warning you see on this page.

raw results

Package 1/404HostnameOS / ArchINSTALLBUILDCHECK
ABAData 1.23.1  (landing page)
Steffi Grote
Snapshot Date: 2021-10-19 09:30:02 -0400 (Tue, 19 Oct 2021)
git_url: https://git.bioconductor.org/packages/ABAData
git_branch: master
git_last_commit: 7c27986
git_last_commit_date: 2021-08-11 10:11:02 -0400 (Wed, 11 Aug 2021)
nebbiolo2Linux (Ubuntu 20.04.2 LTS) / x86_64  OK    OK    WARNINGS  UNNEEDED, same version is already published

Summary

Package: ABAData
Version: 1.23.1
Command: /home/biocbuild/bbs-3.14-bioc/R/bin/R CMD build --keep-empty-dirs --no-resave-data ABAData
StartedAt: 2021-10-19 11:10:08 -0400 (Tue, 19 Oct 2021)
EndedAt: 2021-10-19 11:10:23 -0400 (Tue, 19 Oct 2021)
EllapsedTime: 15.1 seconds
RetCode: 0
Status:   OK  
PackageFile: ABAData_1.23.1.tar.gz
PackageFileSize: 57.89 MiB

Command output

##############################################################################
##############################################################################
###
### Running command:
###
###   /home/biocbuild/bbs-3.14-bioc/R/bin/R CMD build --keep-empty-dirs --no-resave-data ABAData
###
##############################################################################
##############################################################################


* checking for file ‘ABAData/DESCRIPTION’ ... OK
* preparing ‘ABAData’:
* checking DESCRIPTION meta-information ... OK
* installing the package to build vignettes
* creating vignettes ... OK
* checking for LF line-endings in source and make files and shell scripts
* checking for empty or unneeded directories
* looking to see if a ‘data/datalist’ file should be added
* building ‘ABAData_1.23.1.tar.gz’