This page was generated on 2023-09-26 14:51:52 -0400 (Tue, 26 Sep 2023).
|
Hostname | OS | Arch (*) | R version | Installed pkgs |
---|---|---|---|---|
nebbiolo2 | Linux (Ubuntu 22.04.2 LTS) | x86_64 | 4.3.1 (2023-06-16) -- "Beagle Scouts" | 4659 |
Click on any hostname to see more info about the system (e.g. compilers) (*) as reported by 'uname -p', except on Windows and Mac OS X |
A |
QUICK STATS | OS / Arch | INSTALL | BUILD | CHECK | |||||||||||||||||||||||||||||||
nebbiolo2 | Linux (Ubuntu 22.04.2 LTS) / x86_64 |
|
|
| |||||||||||||||||||||||||||||||
|
| ||||||||||||||||||||||||||||||||||
Package | Maintainer | INSTALL | BUILD | CHECK | |||||||||||||||||||||||||||||||
1/424 | adductData 1.17.0 (landing page) | Josie Hayes | OK | OK | OK | ![]() | |||||||||||||||||||||||||||||
2/424 | affycompData 1.39.2 (landing page) | Robert D Shear | OK | OK | OK | ![]() | |||||||||||||||||||||||||||||
3/424 | affydata 1.49.1 (landing page) | Robert D Shear | OK | OK | WARNINGS | ![]() | |||||||||||||||||||||||||||||
4/424 | Affyhgu133A2Expr 1.37.0 (landing page) | Zhicheng Ji | OK | OK | OK | ![]() | |||||||||||||||||||||||||||||
5/424 | Affyhgu133aExpr 1.39.0 (landing page) | Zhicheng Ji | OK | OK | OK | ![]() | |||||||||||||||||||||||||||||
6/424 | Affyhgu133Plus2Expr 1.35.0 (landing page) | Zhicheng Ji | OK | OK | OK | ![]() | |||||||||||||||||||||||||||||
7/424 | AffymetrixDataTestFiles 0.39.1 (landing page) | Henrik Bengtsson | OK | OK | OK | ![]() | |||||||||||||||||||||||||||||
8/424 | Affymoe4302Expr 1.39.0 (landing page) | Zhicheng Ji | OK | OK | OK | ![]() | |||||||||||||||||||||||||||||
9/424 | airway 1.21.0 (landing page) | Michael Love | OK | OK | WARNINGS | ![]() | |||||||||||||||||||||||||||||
10/424 | ALL 1.43.0 (landing page) | Robert Gentleman | OK | OK | OK | ![]() | |||||||||||||||||||||||||||||
11/424 | ALLMLL 1.41.0 (landing page) | B. M. Bolstad | OK | OK | OK | ![]() | |||||||||||||||||||||||||||||
12/424 | AmpAffyExample 1.41.1 (landing page) | Robert D Shear | OK | OK | WARNINGS | ![]() | |||||||||||||||||||||||||||||
13/424 | AneuFinderData 1.29.0 (landing page) | Aaron Taudt | OK | OK | WARNINGS | ![]() | |||||||||||||||||||||||||||||
14/424 | antiProfilesData 1.37.0 (landing page) | Hector Corrada Bravo | OK | OK | OK | ![]() | |||||||||||||||||||||||||||||
15/424 | aracne.networks 1.27.0 (landing page) | Federico M. Giorgi | OK | OK | WARNINGS | ![]() | |||||||||||||||||||||||||||||
16/424 | ARRmData 1.37.0 (landing page) | Jean-Philippe Fortin | OK | OK | OK | ![]() | |||||||||||||||||||||||||||||
17/424 | AshkenazimSonChr21 1.31.0 (landing page) | Who to complain to | OK | OK | OK | ![]() | |||||||||||||||||||||||||||||
18/424 | ASICSdata 1.21.0 (landing page) | Gaëlle Lefort | OK | OK | OK | ![]() | |||||||||||||||||||||||||||||
19/424 | AssessORFData 1.19.0 (landing page) | Deepank Korandla | OK | OK | OK | ![]() | |||||||||||||||||||||||||||||
|
| ||||||||||||||||||||||||||||||||||
Package | Maintainer | INSTALL | BUILD | CHECK | |||||||||||||||||||||||||||||||
20/424 | bcellViper 1.37.0 (landing page) | Mariano Javier Alvarez | OK | OK | OK | ![]() | |||||||||||||||||||||||||||||
21/424 | beadarrayExampleData 1.39.0 (landing page) | Mark Dunning | OK | OK | OK | ![]() | |||||||||||||||||||||||||||||
22/424 | BeadArrayUseCases 1.39.0 (landing page) | Mike Smith | OK | OK | OK | ![]() | |||||||||||||||||||||||||||||
23/424 | BeadSorted.Saliva.EPIC 1.9.0 (landing page) | Jonah Fisher | OK | OK | OK | ![]() | |||||||||||||||||||||||||||||
24/424 | benchmarkfdrData2019 1.15.0 (landing page) | Stephanie Hicks | OK | OK | OK | ![]() | |||||||||||||||||||||||||||||
25/424 | beta7 1.39.0 (landing page) | Jean Yang | OK | OK | WARNINGS | ![]() | |||||||||||||||||||||||||||||
26/424 | BioImageDbs 1.9.0 (landing page) | Satoshi Kume | OK | OK | OK | ![]() | |||||||||||||||||||||||||||||
27/424 | BioPlex 1.7.0 (landing page) | Ludwig Geistlinger | OK | OK | OK | ![]() | |||||||||||||||||||||||||||||
28/424 | biotmleData 1.25.0 (landing page) | Nima Hejazi | OK | OK | WARNINGS | ![]() | |||||||||||||||||||||||||||||
29/424 | biscuiteerData 1.15.3 (landing page) | "Jacob Morrison" | OK | OK | OK | ![]() | |||||||||||||||||||||||||||||
30/424 | bladderbatch 1.39.0 (landing page) | Jeffrey T. Leek | OK | OK | WARNINGS | ![]() | |||||||||||||||||||||||||||||
31/424 | blimaTestingData 1.21.0 (landing page) | Vojtech Kulvait | OK | OK | OK | ![]() | |||||||||||||||||||||||||||||
32/424 | BloodCancerMultiOmics2017 1.21.0 (landing page) | Malgorzata Oles | OK | OK | WARNINGS | ![]() | |||||||||||||||||||||||||||||
33/424 | bodymapRat 1.17.0 (landing page) | Stephanie Hicks | OK | OK | OK | ![]() | |||||||||||||||||||||||||||||
34/424 | breakpointRdata 1.19.0 (landing page) | David Porubsky | OK | OK | OK | ![]() | |||||||||||||||||||||||||||||
35/424 | breastCancerMAINZ 1.39.0 (landing page) | Markus Schroeder | OK | OK | WARNINGS | ![]() | |||||||||||||||||||||||||||||
36/424 | breastCancerNKI 1.39.0 (landing page) | Markus Schroeder | OK | OK | WARNINGS | ![]() | |||||||||||||||||||||||||||||
37/424 | breastCancerTRANSBIG 1.39.0 (landing page) | Markus Schroeder | OK | OK | WARNINGS | ![]() | |||||||||||||||||||||||||||||
38/424 | breastCancerUNT 1.39.0 (landing page) | Markus Schroeder | OK | OK | WARNINGS | ![]() | |||||||||||||||||||||||||||||
39/424 | breastCancerUPP 1.39.0 (landing page) | Markus Schroeder | OK | OK | WARNINGS | ![]() | |||||||||||||||||||||||||||||
40/424 | breastCancerVDX 1.39.0 (landing page) | Markus Schroeder | OK | OK | WARNINGS | ![]() | |||||||||||||||||||||||||||||
41/424 | brgedata 1.23.1 (landing page) | Dolors Pelegri-Siso | OK | OK | WARNINGS | ![]() | |||||||||||||||||||||||||||||
42/424 | bronchialIL13 1.39.0 (landing page) | Vince Carey | OK | OK | OK | ![]() | |||||||||||||||||||||||||||||
43/424 | bsseqData 0.39.0 (landing page) | Kasper Daniel Hansen | OK | OK | WARNINGS | ![]() | |||||||||||||||||||||||||||||
|
| ||||||||||||||||||||||||||||||||||
Package | Maintainer | INSTALL | BUILD | CHECK | |||||||||||||||||||||||||||||||
44/424 | cancerdata 1.39.0 (landing page) | Daniel Kosztyla | OK | OK | OK | ![]() | |||||||||||||||||||||||||||||
45/424 | CardinalWorkflows 1.33.0 (landing page) | Kylie A. Bemis | OK | OK | OK | ![]() | |||||||||||||||||||||||||||||
46/424 | ccdata 1.27.0 (landing page) | Alex Pickering | OK | OK | WARNINGS | ![]() | |||||||||||||||||||||||||||||
47/424 | CCl4 1.39.0 (landing page) | Audrey Kauffmann | OK | OK | WARNINGS | ![]() | |||||||||||||||||||||||||||||
48/424 | Joern Toedling | OK | OK | WARNINGS | ![]() | ||||||||||||||||||||||||||||||
49/424 | celarefData 1.19.0 (landing page) | Sarah Williams | OK | OK | OK | ![]() | |||||||||||||||||||||||||||||
50/424 | celldex 1.11.1 (landing page) | Aaron Lun | OK | OK | WARNINGS | ![]() | |||||||||||||||||||||||||||||
51/424 | CellMapperData 1.27.0 (landing page) | Brad Nelms | OK | OK | OK | ![]() | |||||||||||||||||||||||||||||
52/424 | ChAMPdata 2.33.0 (landing page) | Yuan Tian | OK | OK | WARNINGS | ![]() | |||||||||||||||||||||||||||||
53/424 | ChIC.data 1.21.0 (landing page) | Carmen Maria Livi | OK | OK | OK | ![]() | |||||||||||||||||||||||||||||
54/424 | ChimpHumanBrainData 1.39.0 (landing page) | Sean Davis | OK | OK | ERROR | ||||||||||||||||||||||||||||||
55/424 | chipenrich.data 2.25.0 (landing page) | Kai Wang | OK | OK | WARNINGS | ![]() | |||||||||||||||||||||||||||||
56/424 | ChIPexoQualExample 1.25.0 (landing page) | Rene Welch | OK | OK | OK | ![]() | |||||||||||||||||||||||||||||
57/424 | chipseqDBData 1.17.0 (landing page) | Aaron Lun | OK | OK | OK | ![]() | |||||||||||||||||||||||||||||
58/424 | ChIPXpressData 1.39.0 (landing page) | George Wu | OK | OK | WARNINGS | ![]() | |||||||||||||||||||||||||||||
59/424 | chromstaRData 1.27.0 (landing page) | Aaron Taudt | OK | OK | WARNINGS | ![]() | |||||||||||||||||||||||||||||
60/424 | CLL 1.41.0 (landing page) | Robert Gentleman | OK | OK | OK | ![]() | |||||||||||||||||||||||||||||
61/424 | CLLmethylation 1.21.0 (landing page) | Malgorzata Oles | OK | OK | OK | ![]() | |||||||||||||||||||||||||||||
62/424 | CluMSIDdata 1.17.0 (landing page) | Tobias Depke | OK | OK | OK | ![]() | |||||||||||||||||||||||||||||
63/424 | clustifyrdatahub 1.11.0 (landing page) | Kent Riemondy | OK | OK | OK | ![]() | |||||||||||||||||||||||||||||
64/424 | cMap2data 1.37.0 (landing page) | J. Saez-Rodriguez | OK | OK | WARNINGS | ![]() | |||||||||||||||||||||||||||||
65/424 | cnvGSAdata 1.37.0 (landing page) | Joseph Lugo | OK | OK | WARNINGS | ![]() | |||||||||||||||||||||||||||||
66/424 | COHCAPanno 1.37.0 (landing page) | Charles Warden | OK | OK | OK | ![]() | |||||||||||||||||||||||||||||
67/424 | colonCA 1.43.0 (landing page) | W Sylvia Merk | OK | OK | WARNINGS | ![]() | |||||||||||||||||||||||||||||
68/424 | CONFESSdata 1.29.0 (landing page) | Diana LOW | OK | OK | OK | ![]() | |||||||||||||||||||||||||||||
69/424 | ConnectivityMap 1.37.0 (landing page) | Paul Shannon | OK | OK | OK | ![]() | |||||||||||||||||||||||||||||
70/424 | COPDSexualDimorphism.data 1.37.0 (landing page) | J Fah Sathirapongsasuti | OK | OK | WARNINGS | ![]() | |||||||||||||||||||||||||||||
71/424 | CopyhelpeR 1.33.0 (landing page) | Oscar Krijgsman | OK | OK | OK | ![]() | |||||||||||||||||||||||||||||
72/424 | CopyNeutralIMA 1.19.0 (landing page) | Xavier Pastor Hostench | OK | OK | OK | ![]() | |||||||||||||||||||||||||||||
73/424 | CoSIAdata 1.1.0 (landing page) | Amanda D. Clark | OK | OK | OK | ![]() | |||||||||||||||||||||||||||||
74/424 | COSMIC.67 1.37.0 (landing page) | Julian Gehring | OK | OK | OK | ![]() | |||||||||||||||||||||||||||||
75/424 | CRCL18 1.21.0 (landing page) | Claudio Isella | OK | OK | OK | ![]() | |||||||||||||||||||||||||||||
76/424 | crisprScoreData 1.5.0 (landing page) | Jean-Philippe Fortin | OK | OK | OK | ![]() | |||||||||||||||||||||||||||||
77/424 | curatedAdipoArray 1.13.0 (landing page) | Mahmoud Ahmed | OK | OK | OK | ![]() | |||||||||||||||||||||||||||||
78/424 | curatedAdipoChIP 1.17.0 (landing page) | Mahmoud Ahmed | OK | OK | OK | ![]() | |||||||||||||||||||||||||||||
79/424 | curatedAdipoRNA 1.17.0 (landing page) | Mahmoud Ahmed | OK | OK | WARNINGS | ![]() | |||||||||||||||||||||||||||||
80/424 | curatedBladderData 1.37.0 (landing page) | Markus Riester | OK | OK | OK | ![]() | |||||||||||||||||||||||||||||
81/424 | curatedBreastData 2.29.0 (landing page) | Katie Planey | OK | OK | OK | ![]() | |||||||||||||||||||||||||||||
82/424 | curatedCRCData 2.33.0 (landing page) | Princy Parsana | OK | OK | WARNINGS | ![]() | |||||||||||||||||||||||||||||
83/424 | curatedMetagenomicData 3.9.0 (landing page) | Lucas schiffer | OK | OK | OK | ![]() | |||||||||||||||||||||||||||||
84/424 | curatedOvarianData 1.39.1 (landing page) | Levi Waldron | OK | OK | ERROR | ||||||||||||||||||||||||||||||
85/424 | curatedTBData 1.7.0 (landing page) | Xutao Wang | OK | OK | OK | ![]() | |||||||||||||||||||||||||||||
86/424 | curatedTCGAData 1.23.7 (landing page) | Marcel Ramos | OK | OK | OK | ![]() | |||||||||||||||||||||||||||||
|
| ||||||||||||||||||||||||||||||||||
Package | Maintainer | INSTALL | BUILD | CHECK | |||||||||||||||||||||||||||||||
87/424 | DAPARdata 1.31.0 (landing page) | Samuel Wieczorek | OK | OK | ERROR | ||||||||||||||||||||||||||||||
88/424 | davidTiling 1.41.0 (landing page) | Wolfgang Huber | OK | OK | WARNINGS | ![]() | |||||||||||||||||||||||||||||
89/424 | depmap 1.15.0 (landing page) | Laurent Gatto | OK | OK | WARNINGS | ![]() | |||||||||||||||||||||||||||||
90/424 | derfinderData 2.19.0 (landing page) | Leonardo Collado-Torres | OK | OK | OK | ![]() | |||||||||||||||||||||||||||||
91/424 | DeSousa2013 1.37.0 (landing page) | Xin Wang | OK | OK | OK | ![]() | |||||||||||||||||||||||||||||
92/424 | DExMAdata 1.9.0 (landing page) | Juan Antonio Villatoro-García | OK | OK | OK | ![]() | |||||||||||||||||||||||||||||
93/424 | diffloopdata 1.29.0 (landing page) | Caleb Lareau | OK | OK | OK | ![]() | |||||||||||||||||||||||||||||
94/424 | diggitdata 1.33.0 (landing page) | Mariano Javier Alvarez | OK | OK | OK | ![]() | |||||||||||||||||||||||||||||
95/424 | Marcus Dittrich | OK | OK | ERROR | |||||||||||||||||||||||||||||||
96/424 | DmelSGI 1.33.0 (landing page) | Mike Smith | OK | OK | OK | ![]() | |||||||||||||||||||||||||||||
97/424 | DMRcatedata 2.19.0 (landing page) | Tim Peters | OK | OK | OK | ![]() | |||||||||||||||||||||||||||||
98/424 | DNAZooData 1.1.0 (landing page) | Jacques Serizay | OK | OK | OK | ![]() | |||||||||||||||||||||||||||||
99/424 | DonaPLLP2013 1.39.0 (landing page) | Joseph D. Barry | OK | OK | OK | ![]() | |||||||||||||||||||||||||||||
100/424 | dorothea 1.13.0 (landing page) | Pau Badia-i-Mompel | OK | OK | OK | ![]() | |||||||||||||||||||||||||||||
101/424 | dressCheck 0.39.0 (landing page) | Vincent Carey | OK | OK | OK | ![]() | |||||||||||||||||||||||||||||
102/424 | DropletTestFiles 1.11.0 (landing page) | Aaron Lun | OK | OK | OK | ![]() | |||||||||||||||||||||||||||||
103/424 | DrugVsDiseasedata 1.37.0 (landing page) | J. Saez-Rodriguez | OK | OK | OK | ![]() | |||||||||||||||||||||||||||||
104/424 | DuoClustering2018 1.19.0 (landing page) | Angelo Duò | OK | OK | OK | ![]() | |||||||||||||||||||||||||||||
105/424 | DvDdata 1.37.0 (landing page) | J. Saez-Rodriguez | OK | OK | WARNINGS | ![]() | |||||||||||||||||||||||||||||
106/424 | dyebiasexamples 1.41.0 (landing page) | Philip Lijnzaad | OK | OK | WARNINGS | ![]() | |||||||||||||||||||||||||||||
|
| ||||||||||||||||||||||||||||||||||
Package | Maintainer | INSTALL | BUILD | CHECK | |||||||||||||||||||||||||||||||
107/424 | easierData 1.7.0 (landing page) | Oscar Lapuente-Santana | OK | OK | OK | ![]() | |||||||||||||||||||||||||||||
108/424 | EatonEtAlChIPseq 0.39.0 (landing page) | Patrick Aboyoun | OK | OK | WARNINGS | ![]() | |||||||||||||||||||||||||||||
109/424 | ecoliLeucine 1.41.0 (landing page) | Laurent Gautier | OK | OK | WARNINGS | ![]() | |||||||||||||||||||||||||||||
110/424 | EGSEAdata 1.29.0 (landing page) | Monther Alhamdoosh | OK | OK | OK | ![]() | |||||||||||||||||||||||||||||
111/424 | ELMER.data 2.25.0 (landing page) | Tiago Chedraoui Silva | OK | OK | WARNINGS | ![]() | |||||||||||||||||||||||||||||
112/424 | emtdata 1.9.0 (landing page) | Malvika D. Kharbanda | OK | OK | OK | ![]() | |||||||||||||||||||||||||||||
113/424 | EpiMix.data 1.3.2 (landing page) | Yuanning Zheng | OK | OK | WARNINGS | ![]() | |||||||||||||||||||||||||||||
114/424 | epimutacionsData 1.5.0 (landing page) | Leire Abarrategui | OK | OK | OK | ![]() | |||||||||||||||||||||||||||||
115/424 | estrogen 1.47.0 (landing page) | Wolfgang Huber | OK | OK | ERROR | ||||||||||||||||||||||||||||||
116/424 | etec16s 1.29.0 (landing page) | Joseph N. Paulson | OK | OK | OK | ![]() | |||||||||||||||||||||||||||||
117/424 | ewceData 1.9.0 (landing page) | Alan Murphy | OK | OK | OK | ![]() | |||||||||||||||||||||||||||||
|
| ||||||||||||||||||||||||||||||||||
Package | Maintainer | INSTALL | BUILD | CHECK | |||||||||||||||||||||||||||||||
118/424 | faahKO 1.41.0 (landing page) | Steffen Neumann | OK | OK | OK | ![]() | |||||||||||||||||||||||||||||
119/424 | fabiaData 1.39.0 (landing page) | Sepp Hochreiter | OK | OK | OK | ![]() | |||||||||||||||||||||||||||||
120/424 | FANTOM3and4CAGE 1.37.0 (landing page) | Vanja Haberle | OK | OK | OK | ![]() | |||||||||||||||||||||||||||||
121/424 | ffpeExampleData 1.39.0 (landing page) | Levi Waldron | OK | OK | OK | ![]() | |||||||||||||||||||||||||||||
122/424 | fibroEset 1.43.0 (landing page) | Sylvia Merk | OK | OK | WARNINGS | ![]() | |||||||||||||||||||||||||||||
123/424 | FieldEffectCrc 1.11.0 (landing page) | Christopher Dampier | OK | OK | OK | ![]() | |||||||||||||||||||||||||||||
124/424 | FIs 1.29.0 (landing page) | Herbert Braselmann | OK | OK | OK | ![]() | |||||||||||||||||||||||||||||
125/424 | fission 1.21.0 (landing page) | Michael Love | OK | OK | OK | ![]() | |||||||||||||||||||||||||||||
126/424 | Fletcher2013a 1.37.0 (landing page) | Mauro Castro | OK | OK | OK | ![]() | |||||||||||||||||||||||||||||
127/424 | Fletcher2013b 1.37.0 (landing page) | Mauro Castro | OK | OK | WARNINGS | ![]() | |||||||||||||||||||||||||||||
128/424 | flowPloidyData 1.27.0 (landing page) | Tyler Smith | OK | OK | OK | ![]() | |||||||||||||||||||||||||||||
129/424 | FlowSorted.Blood.450k 1.39.0 (landing page) | Andrew E Jaffe | OK | OK | WARNINGS | ![]() | |||||||||||||||||||||||||||||
130/424 | FlowSorted.Blood.EPIC 2.5.2 (landing page) | Lucas A. Salas | OK | OK | OK | ![]() | |||||||||||||||||||||||||||||
131/424 | FlowSorted.CordBlood.450k 1.29.0 (landing page) | Shan V. Andrews | OK | OK | WARNINGS | ![]() | |||||||||||||||||||||||||||||
132/424 | FlowSorted.CordBloodCombined.450k 1.17.0 (landing page) | Lucas A. Salas | OK | OK | OK | ![]() | |||||||||||||||||||||||||||||
133/424 | FlowSorted.CordBloodNorway.450k 1.27.0 (landing page) | kristina gervin | OK | OK | WARNINGS | ![]() | |||||||||||||||||||||||||||||
134/424 | FlowSorted.DLPFC.450k 1.37.0 (landing page) | Andrew E Jaffe | OK | OK | WARNINGS | ![]() | |||||||||||||||||||||||||||||
135/424 | flowWorkspaceData 3.13.0 (landing page) | Mike Jiang | OK | OK | OK | ![]() | |||||||||||||||||||||||||||||
136/424 | fourDNData 1.1.0 (landing page) | Jacques Serizay | OK | OK | OK | ![]() | |||||||||||||||||||||||||||||
137/424 | frmaExampleData 1.37.0 (landing page) | Matthew N. McCall | OK | OK | WARNINGS | ![]() | |||||||||||||||||||||||||||||
138/424 | furrowSeg 1.29.0 (landing page) | Joseph Barry | OK | OK | WARNINGS | ![]() | |||||||||||||||||||||||||||||
|
| ||||||||||||||||||||||||||||||||||
Package | Maintainer | INSTALL | BUILD | CHECK | |||||||||||||||||||||||||||||||
139/424 | gageData 2.39.0 (landing page) | Weijun Luo | OK | OK | OK | ![]() | |||||||||||||||||||||||||||||
140/424 | gaschYHS 1.39.0 (landing page) | Vince Carey | OK | OK | OK | ![]() | |||||||||||||||||||||||||||||
141/424 | gcspikelite 1.39.0 (landing page) | Mark Robinson | OK | OK | WARNINGS | ![]() | |||||||||||||||||||||||||||||
142/424 | gDNAinRNAseqData 1.1.0 (landing page) | Robert Castelo | OK | OK | OK | ![]() | |||||||||||||||||||||||||||||
143/424 | gDRtestData 0.99.19 (landing page) | Arkadiusz Gladki | OK | OK | OK | ![]() | |||||||||||||||||||||||||||||
144/424 | geneLenDataBase 1.37.0 (landing page) | Matthew Young | OK | OK | WARNINGS | ![]() | |||||||||||||||||||||||||||||
145/424 | genomationData 1.33.0 (landing page) | Vedran Franke | OK | OK | OK | ![]() | |||||||||||||||||||||||||||||
146/424 | GenomicDistributionsData 1.9.0 (landing page) | Kristyna Kupkova | OK | OK | OK | ![]() | |||||||||||||||||||||||||||||
147/424 | GeuvadisTranscriptExpr 1.29.0 (landing page) | Malgorzata Nowicka | OK | OK | OK | ![]() | |||||||||||||||||||||||||||||
148/424 | GIGSEAdata 1.19.0 (landing page) | Shijia Zhu | OK | OK | WARNINGS | ![]() | |||||||||||||||||||||||||||||
149/424 | golubEsets 1.43.0 (landing page) | Vince Carey | OK | OK | OK | ![]() | |||||||||||||||||||||||||||||
150/424 | gpaExample 1.13.0 (landing page) | Dongjun Chung | OK | OK | OK | ![]() | |||||||||||||||||||||||||||||
151/424 | grndata 1.33.0 (landing page) | Pau Bellot | OK | OK | WARNINGS | ![]() | |||||||||||||||||||||||||||||
152/424 | GSBenchMark 1.21.0 (landing page) | Bahman Afsari | OK | OK | OK | ![]() | |||||||||||||||||||||||||||||
153/424 | GSE103322 1.7.0 (landing page) | Mariano Alvarez | OK | OK | OK | ![]() | |||||||||||||||||||||||||||||
154/424 | GSE13015 1.9.0 (landing page) | Darawan Rinchai | OK | OK | OK | ![]() | |||||||||||||||||||||||||||||
155/424 | GSE159526 1.7.0 (landing page) | Victor Yuan | OK | OK | OK | ![]() | |||||||||||||||||||||||||||||
156/424 | GSE62944 1.29.1 (landing page) | Bioconductor Package Maintainer | OK | OK | OK | ![]() | |||||||||||||||||||||||||||||
157/424 | GSVAdata 1.37.0 (landing page) | Robert Castelo | OK | OK | OK | ![]() | |||||||||||||||||||||||||||||
158/424 | GWASdata 1.39.1 (landing page) | Stephanie Gogarten | OK | OK | OK | ![]() | |||||||||||||||||||||||||||||
|
| ||||||||||||||||||||||||||||||||||
Package | Maintainer | INSTALL | BUILD | CHECK | |||||||||||||||||||||||||||||||
159/424 | h5vcData 2.21.0 (landing page) | Paul Theodor Pyl | OK | OK | OK | ![]() | |||||||||||||||||||||||||||||
160/424 | hapmap100khind 1.43.0 (landing page) | Benilton Carvalho | OK | OK | OK | ![]() | |||||||||||||||||||||||||||||
161/424 | hapmap100kxba 1.43.0 (landing page) | Benilton Carvalho | OK | OK | OK | ![]() | |||||||||||||||||||||||||||||
162/424 | hapmap500knsp 1.43.0 (landing page) | Benilton Carvalho | OK | OK | OK | ![]() | |||||||||||||||||||||||||||||
163/424 | hapmap500ksty 1.43.0 (landing page) | Benilton Carvalho | OK | OK | OK | ![]() | |||||||||||||||||||||||||||||
164/424 | hapmapsnp5 1.43.0 (landing page) | Benilton Carvalho | OK | OK | OK | ![]() | |||||||||||||||||||||||||||||
165/424 | hapmapsnp6 1.43.0 (landing page) | Benilton Carvalho | OK | OK | OK | ![]() | |||||||||||||||||||||||||||||
166/424 | harbChIP 1.39.0 (landing page) | VJ Carey | OK | OK | OK | ![]() | |||||||||||||||||||||||||||||
167/424 | HarmanData 1.29.0 (landing page) | Jason Ross | OK | OK | OK | ![]() | |||||||||||||||||||||||||||||
168/424 | HarmonizedTCGAData 1.23.0 (landing page) | Tianle Ma | OK | OK | OK | ![]() | |||||||||||||||||||||||||||||
169/424 | HCAData 1.17.0 (landing page) | Federico Marini | OK | OK | OK | ![]() | |||||||||||||||||||||||||||||
170/424 | HD2013SGI 1.41.0 (landing page) | Mike Smith | OK | OK | OK | ![]() | |||||||||||||||||||||||||||||
171/424 | HDCytoData 1.21.0 (landing page) | Lukas M. Weber | OK | OK | OK | ![]() | |||||||||||||||||||||||||||||
172/424 | healthyControlsPresenceChecker 1.5.0 (landing page) | Davide Chicco | OK | OK | OK | ![]() | |||||||||||||||||||||||||||||
173/424 | healthyFlowData 1.39.0 (landing page) | Ariful Azad | OK | OK | OK | ![]() | |||||||||||||||||||||||||||||
174/424 | HEEBOdata 1.39.0 (landing page) | Agnes Paquet | OK | OK | WARNINGS | ![]() | |||||||||||||||||||||||||||||
175/424 | HelloRangesData 1.27.0 (landing page) | Michael Lawrence | OK | OK | OK | ![]() | |||||||||||||||||||||||||||||
176/424 | hgu133abarcodevecs 1.39.0 (landing page) | Matthew N. McCall | OK | OK | OK | ![]() | |||||||||||||||||||||||||||||
177/424 | hgu133plus2barcodevecs 1.39.0 (landing page) | Matthew N. McCall | OK | OK | OK | ![]() | |||||||||||||||||||||||||||||
178/424 | hgu133plus2CellScore 1.21.0 (landing page) | Nancy Mah | OK | OK | WARNINGS | ![]() | |||||||||||||||||||||||||||||
179/424 | hgu2beta7 1.41.0 (landing page) | Bioconductor Package Maintainer | OK | OK | WARNINGS | ![]() | |||||||||||||||||||||||||||||
180/424 | HiBED 0.99.14 (landing page) | Ze Zhang | OK | OK | OK | ![]() | |||||||||||||||||||||||||||||
181/424 | HiCDataHumanIMR90 1.21.0 (landing page) | Nicolas Servant | OK | OK | WARNINGS | ![]() | |||||||||||||||||||||||||||||
182/424 | HiCDataLymphoblast 1.37.0 (landing page) | Borbala Mifsud | OK | OK | OK | ![]() | |||||||||||||||||||||||||||||
183/424 | HiContactsData 1.3.0 (landing page) | Jacques Serizay | OK | OK | OK | ![]() | |||||||||||||||||||||||||||||
184/424 | HighlyReplicatedRNASeq 1.13.0 (landing page) | Constantin Ahlmann-Eltze | OK | OK | OK | ![]() | |||||||||||||||||||||||||||||
185/424 | Hiiragi2013 1.37.0 (landing page) | Andrzej Oles | OK | OK | OK | ![]() | |||||||||||||||||||||||||||||
186/424 | HIVcDNAvantWout03 1.41.0 (landing page) | Chris Fraley | OK | OK | WARNINGS | ![]() | |||||||||||||||||||||||||||||
187/424 | HMP16SData 1.21.0 (landing page) | Lucas schiffer | OK | OK | OK | ![]() | |||||||||||||||||||||||||||||
188/424 | HMP2Data 1.15.0 (landing page) | John Stansfield | OK | OK | OK | ![]() | |||||||||||||||||||||||||||||
189/424 | HSMMSingleCell 1.21.0 (landing page) | Cole Trapnell | OK | OK | WARNINGS | ![]() | |||||||||||||||||||||||||||||
190/424 | HumanAffyData 1.27.0 (landing page) | Brad Nelms | OK | OK | OK | ![]() | |||||||||||||||||||||||||||||
191/424 | humanStemCell 0.41.0 (landing page) | R. Gentleman | OK | OK | WARNINGS | ![]() | |||||||||||||||||||||||||||||
|
| ||||||||||||||||||||||||||||||||||
Package | Maintainer | INSTALL | BUILD | CHECK | |||||||||||||||||||||||||||||||
192/424 | IHWpaper 1.29.0 (landing page) | Nikos Ignatiadis | OK | OK | OK | ![]() | |||||||||||||||||||||||||||||
193/424 | Illumina450ProbeVariants.db 1.37.0 (landing page) | Tiffany Morris | OK | OK | OK | ![]() | |||||||||||||||||||||||||||||
194/424 | IlluminaDataTestFiles 1.39.0 (landing page) | Kasper Daniel Hansen | OK | OK | OK | ![]() | |||||||||||||||||||||||||||||
195/424 | imcdatasets 1.9.0 (landing page) | Nicolas Damond | OK | OK | OK | ![]() | |||||||||||||||||||||||||||||
196/424 | ITALICSData 2.39.0 (landing page) | Guillem Rigaill | OK | OK | WARNINGS | ![]() | |||||||||||||||||||||||||||||
197/424 | Iyer517 1.43.0 (landing page) | Vince Carey | OK | OK | OK | ![]() | |||||||||||||||||||||||||||||
|
| ||||||||||||||||||||||||||||||||||
Package | Maintainer | INSTALL | BUILD | CHECK | |||||||||||||||||||||||||||||||
198/424 | JASPAR2014 1.37.1 (landing page) | Ge Tan | OK | OK | WARNINGS | ![]() | |||||||||||||||||||||||||||||
199/424 | JASPAR2016 1.29.1 (landing page) | Ge Tan | OK | OK | OK | ![]() | |||||||||||||||||||||||||||||
|
| ||||||||||||||||||||||||||||||||||
Package | Maintainer | INSTALL | BUILD | CHECK | |||||||||||||||||||||||||||||||
200/424 | KEGGandMetacoreDzPathwaysGEO 1.21.0 (landing page) | Gaurav Bhatti | OK | OK | OK | ![]() | |||||||||||||||||||||||||||||
201/424 | KEGGdzPathwaysGEO 1.39.0 (landing page) | Gaurav Bhatti | OK | OK | OK | ![]() | |||||||||||||||||||||||||||||
202/424 | kidpack 1.43.0 (landing page) | Wolfgang Huber | OK | OK | WARNINGS | ![]() | |||||||||||||||||||||||||||||
203/424 | KOdata 1.27.0 (landing page) | Shana White | OK | OK | WARNINGS | ![]() | |||||||||||||||||||||||||||||
|
| ||||||||||||||||||||||||||||||||||
Package | Maintainer | INSTALL | BUILD | CHECK | |||||||||||||||||||||||||||||||
204/424 | leeBamViews 1.37.0 (landing page) | VJ Carey | OK | OK | OK | ![]() | |||||||||||||||||||||||||||||
205/424 | leukemiasEset 1.37.0 (landing page) | Sara Aibar | OK | OK | OK | ![]() | |||||||||||||||||||||||||||||
206/424 | LiebermanAidenHiC2009 0.39.0 (landing page) | Felix Klein | OK | OK | WARNINGS | ![]() | |||||||||||||||||||||||||||||
207/424 | ListerEtAlBSseq 1.33.2 (landing page) | Mattia Furlan | OK | OK | WARNINGS | ![]() | |||||||||||||||||||||||||||||
208/424 | LRcellTypeMarkers 1.9.0 (landing page) | Wenjing Ma | OK | OK | OK | ![]() | |||||||||||||||||||||||||||||
209/424 | lumiBarnes 1.41.0 (landing page) | Pan Du | OK | OK | WARNINGS | ![]() | |||||||||||||||||||||||||||||
210/424 | LungCancerACvsSCCGEO 1.37.0 (landing page) | Adi Laurentiu Tarca | OK | OK | OK | ![]() | |||||||||||||||||||||||||||||
211/424 | LungCancerLines 0.39.0 (landing page) | Michael Lawrence | OK | OK | OK | ![]() | |||||||||||||||||||||||||||||
212/424 | lungExpression 0.39.0 (landing page) | Robert Scharpf | OK | OK | OK | ![]() | |||||||||||||||||||||||||||||
213/424 | lydata 1.27.0 (landing page) | Alex Pickering | OK | OK | OK | ![]() | |||||||||||||||||||||||||||||
|
| ||||||||||||||||||||||||||||||||||
Package | Maintainer | INSTALL | BUILD | CHECK | |||||||||||||||||||||||||||||||
214/424 | M3DExampleData 1.27.0 (landing page) | Tallulah Andrews | OK | OK | WARNINGS | ![]() | |||||||||||||||||||||||||||||
215/424 | macrophage 1.17.0 (landing page) | Michael Love | OK | OK | WARNINGS | ![]() | |||||||||||||||||||||||||||||
216/424 | MACSdata 1.9.0 (landing page) | Qiang Hu | OK | OK | OK | ![]() | |||||||||||||||||||||||||||||
217/424 | mammaPrintData 1.37.0 (landing page) | Luigi Marchionni | OK | OK | OK | ![]() | |||||||||||||||||||||||||||||
218/424 | mAPKLData 1.33.0 (landing page) | Argiris Sakellariou | OK | OK | WARNINGS | ![]() | |||||||||||||||||||||||||||||
219/424 | maqcExpression4plex 1.45.0 (landing page) | Benilton Carvalho | OK | OK | OK | ![]() | |||||||||||||||||||||||||||||
220/424 | MAQCsubset 1.39.0 (landing page) | VJ Carey | OK | OK | WARNINGS | ![]() | |||||||||||||||||||||||||||||
221/424 | Laurent Gatto | OK | OK | WARNINGS | ![]() | ||||||||||||||||||||||||||||||
222/424 | marinerData 1.1.0 (landing page) | Eric Davis | OK | OK | OK | ![]() | |||||||||||||||||||||||||||||
223/424 | mCSEAdata 1.21.2 (landing page) | Jordi Martorell Marugán | OK | OK | OK | ![]() | |||||||||||||||||||||||||||||
224/424 | mcsurvdata 1.19.1 (landing page) | Adria Caballe Mestres | OK | OK | OK | ![]() | |||||||||||||||||||||||||||||
225/424 | MEDIPSData 1.37.0 (landing page) | Lukas Chavez | OK | OK | WARNINGS | ![]() | |||||||||||||||||||||||||||||
226/424 | MEEBOdata 1.39.0 (landing page) | Agnes Paquet | OK | OK | WARNINGS | ![]() | |||||||||||||||||||||||||||||
227/424 | MerfishData 1.3.0 (landing page) | Ludwig Geistlinger | OK | OK | ERROR | ||||||||||||||||||||||||||||||
228/424 | MetaGxBreast 1.21.0 (landing page) | Benjamin Haibe-Kains | OK | OK | OK | ![]() | |||||||||||||||||||||||||||||
229/424 | MetaGxOvarian 1.21.0 (landing page) | Benjamin Haibe-Kains | OK | OK | WARNINGS | ![]() | |||||||||||||||||||||||||||||
230/424 | MetaGxPancreas 1.21.0 (landing page) | Benjamin Haibe-Kains | OK | OK | OK | ![]() | |||||||||||||||||||||||||||||
231/424 | metaMSdata 1.37.0 (landing page) | Yann Guitton | OK | OK | OK | ![]() | |||||||||||||||||||||||||||||
232/424 | MetaScope 1.1.1 (landing page) | Aubrey Odom | OK | OK | ERROR | ||||||||||||||||||||||||||||||
233/424 | MethylAidData 1.33.0 (landing page) | M. van Iterson | OK | OK | OK | ![]() | |||||||||||||||||||||||||||||
234/424 | methylclockData 1.9.1 (landing page) | Dolors Pelegri-Siso | OK | OK | OK | ![]() | |||||||||||||||||||||||||||||
235/424 | MethylSeqData 1.11.0 (landing page) | Peter Hickey | OK | OK | OK | ![]() | |||||||||||||||||||||||||||||
236/424 | MicrobiomeBenchmarkData 1.3.0 (landing page) | Samuel Gamboa | OK | OK | OK | ![]() | |||||||||||||||||||||||||||||
237/424 | microbiomeDataSets 1.9.0 (landing page) | Leo Lahti | OK | OK | OK | ![]() | |||||||||||||||||||||||||||||
238/424 | microRNAome 1.23.0 (landing page) | Matthew N. McCall | OK | OK | WARNINGS | ![]() | |||||||||||||||||||||||||||||
239/424 | Juan C. Rodriguez | OK | OK | ERROR | |||||||||||||||||||||||||||||||
240/424 | minfiData 0.47.0 (landing page) | Kasper Daniel Hansen | OK | OK | WARNINGS | ![]() | |||||||||||||||||||||||||||||
241/424 | minfiDataEPIC 1.27.0 (landing page) | Kasper Daniel Hansen | OK | OK | WARNINGS | ![]() | |||||||||||||||||||||||||||||
242/424 | minionSummaryData 1.31.0 (landing page) | Mike Smith | OK | OK | WARNINGS | ![]() | |||||||||||||||||||||||||||||
243/424 | miRcompData 1.31.0 (landing page) | Matthew N. McCall | OK | OK | OK | ![]() | |||||||||||||||||||||||||||||
244/424 | miRNATarget 1.39.0 (landing page) | Y-h. Taguchi | OK | OK | OK | ![]() | |||||||||||||||||||||||||||||
245/424 | MMAPPR2data 1.15.0 (landing page) | Jonathon Hill | OK | OK | OK | ![]() | |||||||||||||||||||||||||||||
246/424 | MMDiffBamSubset 1.37.0 (landing page) | Gabriele Schweikert | OK | OK | OK | ![]() | |||||||||||||||||||||||||||||
247/424 | MOFAdata 1.17.1 (landing page) | Britta Velten | OK | OK | OK | ![]() | |||||||||||||||||||||||||||||
248/424 | mosaicsExample 1.39.0 (landing page) | Dongjun Chung | OK | OK | WARNINGS | ![]() | |||||||||||||||||||||||||||||
249/424 | mouse4302barcodevecs 1.39.0 (landing page) | Matthew N. McCall | OK | OK | OK | ![]() | |||||||||||||||||||||||||||||
250/424 | MouseGastrulationData 1.15.0 (landing page) | Jonathan Griffiths | OK | OK | OK | ![]() | |||||||||||||||||||||||||||||
251/424 | MouseThymusAgeing 1.9.0 (landing page) | Mike Morgan | OK | OK | OK | ![]() | |||||||||||||||||||||||||||||
252/424 | msd16s 1.21.0 (landing page) | Joseph N. Paulson | OK | OK | OK | ![]() | |||||||||||||||||||||||||||||
253/424 | msdata 0.41.0 (landing page) | Steffen Neumann | OK | OK | OK | ![]() | |||||||||||||||||||||||||||||
254/424 | msigdb 1.9.2 (landing page) | Dharmesh D. Bhuva | OK | OK | ERROR | ||||||||||||||||||||||||||||||
255/424 | MSMB 1.19.0 (landing page) | Wolfgang Huber | OK | OK | OK | ![]() | |||||||||||||||||||||||||||||
256/424 | msPurityData 1.29.0 (landing page) | Thomas N. Lawson | OK | OK | OK | ![]() | |||||||||||||||||||||||||||||
257/424 | msqc1 1.29.0 (landing page) | Christian Panse | OK | OK | OK | ![]() | |||||||||||||||||||||||||||||
258/424 | mtbls2 1.31.0 (landing page) | Steffen Neumann | OK | OK | WARNINGS | ![]() | |||||||||||||||||||||||||||||
259/424 | MUGAExampleData 1.21.0 (landing page) | Daniel Gatti | OK | OK | OK | ![]() | |||||||||||||||||||||||||||||
260/424 | multiWGCNAdata 0.99.2 (landing page) | Dario Tommasini | OK | OK | ERROR | ||||||||||||||||||||||||||||||
261/424 | muscData 1.15.0 (landing page) | Helena L. Crowell | OK | OK | WARNINGS | ![]() | |||||||||||||||||||||||||||||
262/424 | mvoutData 1.37.0 (landing page) | VJ Carey | OK | OK | OK | ![]() | |||||||||||||||||||||||||||||
|
| ||||||||||||||||||||||||||||||||||
Package | Maintainer | INSTALL | BUILD | CHECK | |||||||||||||||||||||||||||||||
263/424 | NanoporeRNASeq 1.11.0 (landing page) | Ying Chen | OK | OK | OK | ![]() | |||||||||||||||||||||||||||||
264/424 | nanotubes 1.17.0 (landing page) | Malte Thodberg | OK | OK | OK | ![]() | |||||||||||||||||||||||||||||
265/424 | NCIgraphData 1.37.0 (landing page) | Laurent Jacob | OK | OK | WARNINGS | ![]() | |||||||||||||||||||||||||||||
266/424 | NestLink 1.17.0 (landing page) | Lennart Opitz | OK | OK | OK | ![]() | |||||||||||||||||||||||||||||
267/424 | NetActivityData 1.3.0 (landing page) | Carlos Ruiz-Arenas | OK | OK | OK | ![]() | |||||||||||||||||||||||||||||
268/424 | Neve2006 0.39.0 (landing page) | VJ Carey | OK | OK | OK | ![]() | |||||||||||||||||||||||||||||
269/424 | NGScopyData 1.21.0 (landing page) | Xiaobei Zhao | OK | OK | OK | ![]() | |||||||||||||||||||||||||||||
270/424 | nullrangesData 1.7.0 (landing page) | Michael Love | OK | OK | OK | ![]() | |||||||||||||||||||||||||||||
271/424 | NxtIRFdata 1.7.0 (landing page) | Alex Chit Hei Wong | OK | OK | OK | ![]() | |||||||||||||||||||||||||||||
|
| ||||||||||||||||||||||||||||||||||
Package | Maintainer | INSTALL | BUILD | CHECK | |||||||||||||||||||||||||||||||
272/424 | ObMiTi 1.9.0 (landing page) | Omar Elashkar | OK | OK | OK | ![]() | |||||||||||||||||||||||||||||
273/424 | oct4 1.17.0 (landing page) | Michael Love | OK | OK | OK | ![]() | |||||||||||||||||||||||||||||
274/424 | octad.db 1.3.0 (landing page) | E. Chekalin | OK | OK | OK | ![]() | |||||||||||||||||||||||||||||
275/424 | OMICsPCAdata 1.19.0 (landing page) | Subhadeep Das | OK | OK | WARNINGS | ![]() | |||||||||||||||||||||||||||||
276/424 | OnassisJavaLibs 1.23.0 (landing page) | Eugenia Galeota | OK | OK | OK | ![]() | |||||||||||||||||||||||||||||
277/424 | optimalFlowData 1.13.0 (landing page) | Hristo Inouzhe | OK | OK | WARNINGS | ![]() | |||||||||||||||||||||||||||||
278/424 | orthosData 0.99.4 (landing page) | Panagiotis Papasaikas | OK | OK | OK | ![]() | |||||||||||||||||||||||||||||
|
| ||||||||||||||||||||||||||||||||||
Package | Maintainer | INSTALL | BUILD | CHECK | |||||||||||||||||||||||||||||||
279/424 | parathyroidSE 1.39.0 (landing page) | Michael Love | OK | OK | OK | ![]() | |||||||||||||||||||||||||||||
280/424 | pasilla 1.29.0 (landing page) | Alejandro Reyes | OK | OK | WARNINGS | ![]() | |||||||||||||||||||||||||||||
281/424 | pasillaBamSubset 0.39.0 (landing page) | Hervé Pagès | OK | OK | OK | ![]() | |||||||||||||||||||||||||||||
282/424 | PasillaTranscriptExpr 1.29.0 (landing page) | Malgorzata Nowicka | OK | OK | OK | ![]() | |||||||||||||||||||||||||||||
283/424 | PathNetData 1.37.1 (landing page) | Ludwig Geistlinger | OK | OK | OK | ![]() | |||||||||||||||||||||||||||||
284/424 | PCHiCdata 1.29.0 (landing page) | Mikhail Spivakov | OK | OK | WARNINGS | ![]() | |||||||||||||||||||||||||||||
285/424 | pcxnData 2.23.0 (landing page) | Sokratis Kariotis | OK | OK | WARNINGS | ![]() | |||||||||||||||||||||||||||||
286/424 | pd.atdschip.tiling 0.39.0 (landing page) | Kristof De Beuf | OK | OK | WARNINGS | ![]() | |||||||||||||||||||||||||||||
287/424 | pepDat 1.21.0 (landing page) | Renan Sauteraud | OK | OK | OK | ![]() | |||||||||||||||||||||||||||||
288/424 | PepsNMRData 1.19.0 (landing page) | Manon Martin | OK | OK | WARNINGS | ![]() | |||||||||||||||||||||||||||||
289/424 | PhyloProfileData 1.15.0 (landing page) | Vinh Tran | OK | OK | OK | ![]() | |||||||||||||||||||||||||||||
290/424 | plotgardenerData 1.7.0 (landing page) | Nicole Kramer | OK | OK | WARNINGS | ![]() | |||||||||||||||||||||||||||||
291/424 | prebsdata 1.37.0 (landing page) | Karolis Uziela | OK | OK | OK | ![]() | |||||||||||||||||||||||||||||
292/424 | preciseTADhub 1.9.0 (landing page) | Mikhail Dozmorov | OK | OK | OK | ![]() | |||||||||||||||||||||||||||||
293/424 | PREDAsampledata 0.41.0 (landing page) | Francesco Ferrari | OK | OK | OK | ![]() | |||||||||||||||||||||||||||||
294/424 | ProData 1.39.0 (landing page) | Xiaochun Li | OK | OK | OK | ![]() | |||||||||||||||||||||||||||||
295/424 | pRolocdata 1.39.0 (landing page) | Laurent Gatto | OK | OK | OK | ![]() | |||||||||||||||||||||||||||||
296/424 | prostateCancerCamcap 1.29.0 (landing page) | Mark Dunning | OK | OK | WARNINGS | ![]() | |||||||||||||||||||||||||||||
297/424 | prostateCancerGrasso 1.29.0 (landing page) | Mark Dunning | OK | OK | WARNINGS | ![]() | |||||||||||||||||||||||||||||
298/424 | prostateCancerStockholm 1.29.0 (landing page) | Mark Dunning | OK | OK | WARNINGS | ![]() | |||||||||||||||||||||||||||||
299/424 | prostateCancerTaylor 1.29.0 (landing page) | Mark Dunning | OK | OK | WARNINGS | ![]() | |||||||||||||||||||||||||||||
300/424 | prostateCancerVarambally 1.29.0 (landing page) | Mark Dunning | OK | OK | WARNINGS | ![]() | |||||||||||||||||||||||||||||
301/424 | ptairData 1.9.0 (landing page) | camille Roquencourt | OK | OK | OK | ![]() | |||||||||||||||||||||||||||||
302/424 | PtH2O2lipids 1.27.0 (landing page) | James Collins | OK | OK | WARNINGS | ![]() | |||||||||||||||||||||||||||||
303/424 | pumadata 2.37.0 (landing page) | Xuejun liu | OK | OK | OK | ![]() | |||||||||||||||||||||||||||||
304/424 | PWMEnrich.Dmelanogaster.background 4.35.0 (landing page) | Diego Diez | OK | OK | OK | ![]() | |||||||||||||||||||||||||||||
305/424 | PWMEnrich.Hsapiens.background 4.35.0 (landing page) | Diego Diez | OK | OK | OK | ![]() | |||||||||||||||||||||||||||||
306/424 | PWMEnrich.Mmusculus.background 4.35.0 (landing page) | Diego Diez | OK | OK | OK | ![]() | |||||||||||||||||||||||||||||
307/424 | Stefan Graw | OK | OK | ERROR | |||||||||||||||||||||||||||||||
|
| ||||||||||||||||||||||||||||||||||
Package | Maintainer | INSTALL | BUILD | CHECK | |||||||||||||||||||||||||||||||
308/424 | QDNAseq.hg19 1.31.0 (landing page) | Daoud Sie | OK | OK | OK | ![]() | |||||||||||||||||||||||||||||
309/424 | QDNAseq.mm10 1.31.0 (landing page) | Daoud Sie | OK | OK | OK | ![]() | |||||||||||||||||||||||||||||
310/424 | qPLEXdata 1.19.1 (landing page) | Kamal Kishore Developer | OK | OK | WARNINGS | ![]() | |||||||||||||||||||||||||||||
311/424 | QUBICdata 1.29.0 (landing page) | Yu Zhang | OK | OK | OK | ![]() | |||||||||||||||||||||||||||||
|
| ||||||||||||||||||||||||||||||||||
Package | Maintainer | INSTALL | BUILD | CHECK | |||||||||||||||||||||||||||||||
312/424 | rcellminerData 2.23.0 (landing page) | Augustin Luna | OK | OK | WARNINGS | ![]() | |||||||||||||||||||||||||||||
313/424 | RcisTarget.hg19.motifDBs.cisbpOnly.500bp 1.21.0 (landing page) | Sara Aibar | OK | OK | WARNINGS | ![]() | |||||||||||||||||||||||||||||
314/424 | ReactomeGSA.data 1.15.0 (landing page) | Johannes Griss | OK | OK | OK | ![]() | |||||||||||||||||||||||||||||
315/424 | RegParallel 1.19.0 (landing page) | Kevin Blighe | OK | OK | OK | ![]() | |||||||||||||||||||||||||||||
316/424 | restfulSEData 1.23.1 (landing page) | Bioconductor Package Maintainer | OK | OK | OK | ![]() | |||||||||||||||||||||||||||||
317/424 | RforProteomics 1.39.1 (landing page) | Laurent Gatto | OK | ERROR | skipped | ||||||||||||||||||||||||||||||
318/424 | RGMQLlib 1.21.0 (landing page) | Simone Pallotta | OK | OK | OK | ![]() | |||||||||||||||||||||||||||||
319/424 | rheumaticConditionWOLLBOLD 1.39.0 (landing page) | Alejandro Quiroz-Zarate | OK | OK | OK | ![]() | |||||||||||||||||||||||||||||
320/424 | RITANdata 1.25.1 (landing page) | Michael Zimmermann | OK | OK | OK | ![]() | |||||||||||||||||||||||||||||
321/424 | RLHub 1.7.0 (landing page) | Henry Miller | OK | OK | ERROR | ||||||||||||||||||||||||||||||
322/424 | RMassBankData 1.39.0 (landing page) | Michael Stravs, Emma Schymanski | OK | OK | OK | ![]() | |||||||||||||||||||||||||||||
323/424 | RNAinteractMAPK 1.39.0 (landing page) | Mike Smith | OK | OK | OK | ![]() | |||||||||||||||||||||||||||||
324/424 | RNAmodR.Data 1.15.0 (landing page) | Felix G.M. Ernst | OK | OK | OK | ![]() | |||||||||||||||||||||||||||||
325/424 | RNAseqData.HNRNPC.bam.chr14 0.39.0 (landing page) | Hervé Pagès | OK | OK | OK | ![]() | |||||||||||||||||||||||||||||
326/424 | RnaSeqSampleSizeData 1.33.0 (landing page) | Shilin Zhao | OK | OK | OK | ![]() | |||||||||||||||||||||||||||||
327/424 | RnBeads.hg19 1.33.0 (landing page) | RnBeadsAnnotationCreator | OK | OK | WARNINGS | ![]() | |||||||||||||||||||||||||||||
328/424 | RnBeads.hg38 1.33.0 (landing page) | RnBeadsAnnotationCreator | OK | OK | OK | ![]() | |||||||||||||||||||||||||||||
329/424 | RnBeads.mm10 2.9.0 (landing page) | RnBeads Team | OK | OK | OK | ![]() | |||||||||||||||||||||||||||||
330/424 | RnBeads.mm9 1.33.0 (landing page) | RnBeadsAnnotationCreator | OK | OK | WARNINGS | ![]() | |||||||||||||||||||||||||||||
331/424 | RnBeads.rn5 1.33.0 (landing page) | RnBeadsAnnotationCreator | OK | OK | OK | ![]() | |||||||||||||||||||||||||||||
332/424 | RRBSdata 1.21.0 (landing page) | Katja Hebestreit | OK | OK | OK | ![]() | |||||||||||||||||||||||||||||
333/424 | rRDPData 1.21.0 (landing page) | Michael Hahsler | OK | OK | OK | ![]() | |||||||||||||||||||||||||||||
334/424 | RTCGA.clinical 20151101.31.0 (landing page) | Marcin Kosinski | OK | OK | WARNINGS | ![]() | |||||||||||||||||||||||||||||
335/424 | RTCGA.CNV 1.29.0 (landing page) | Marcin Kosinski | OK | OK | WARNINGS | ![]() | |||||||||||||||||||||||||||||
336/424 | RTCGA.methylation 1.29.0 (landing page) | Marcin Kosinski | OK | OK | WARNINGS | ![]() | |||||||||||||||||||||||||||||
337/424 | RTCGA.miRNASeq 1.29.0 (landing page) | Marcin Kosinski | OK | OK | WARNINGS | ![]() | |||||||||||||||||||||||||||||
338/424 | RTCGA.mRNA 1.29.0 (landing page) | Marcin Kosinski | OK | OK | WARNINGS | ![]() | |||||||||||||||||||||||||||||
339/424 | RTCGA.mutations 20151101.31.0 (landing page) | Marcin Kosinski | OK | OK | WARNINGS | ![]() | |||||||||||||||||||||||||||||
340/424 | RTCGA.PANCAN12 1.29.0 (landing page) | Marcin Kosinski | OK | OK | OK | ![]() | |||||||||||||||||||||||||||||
341/424 | RTCGA.rnaseq 20151101.31.0 (landing page) | Marcin Kosinski | OK | OK | WARNINGS | ![]() | |||||||||||||||||||||||||||||
342/424 | RTCGA.RPPA 1.29.0 (landing page) | Marcin Kosinski | OK | OK | WARNINGS | ![]() | |||||||||||||||||||||||||||||
343/424 | RUVnormalizeData 1.21.0 (landing page) | Laurent Jacob | OK | OK | OK | ![]() | |||||||||||||||||||||||||||||
|
| ||||||||||||||||||||||||||||||||||
Package | Maintainer | INSTALL | BUILD | CHECK | |||||||||||||||||||||||||||||||
344/424 | sampleClassifierData 1.25.0 (landing page) | Khadija El Amrani | OK | OK | OK | ![]() | |||||||||||||||||||||||||||||
345/424 | SBGNview.data 1.15.0 (landing page) | Weijun Luo | OK | OK | OK | ![]() | |||||||||||||||||||||||||||||
346/424 | scanMiRData 1.7.1 (landing page) | Pierre-Luc Germain | OK | OK | OK | ![]() | |||||||||||||||||||||||||||||
347/424 | scATAC.Explorer 1.7.0 (landing page) | Arrian Gibson-Khademi | OK | OK | OK | ![]() | |||||||||||||||||||||||||||||
348/424 | Wenpin Hou | OK | OK | ERROR | |||||||||||||||||||||||||||||||
349/424 | SCLCBam 1.33.0 (landing page) | Oscar Krijgsman | OK | OK | OK | ![]() | |||||||||||||||||||||||||||||
350/424 | scMultiome 1.1.0 (landing page) | Xiaosai Yao | OK | OK | OK | ![]() | |||||||||||||||||||||||||||||
351/424 | scpdata 1.9.2 (landing page) | Christophe Vanderaa | OK | OK | OK | ![]() | |||||||||||||||||||||||||||||
352/424 | scRNAseq 2.15.0 (landing page) | Aaron Lun | OK | OK | OK | ![]() | |||||||||||||||||||||||||||||
353/424 | scTHI.data 1.13.0 (landing page) | Michele Ceccarelli | OK | OK | OK | ![]() | |||||||||||||||||||||||||||||
354/424 | seq2pathway.data 1.33.0 (landing page) | Arjun Kinstlick | OK | OK | WARNINGS | ![]() | |||||||||||||||||||||||||||||
355/424 | seqc 1.35.0 (landing page) | Yang Liao | OK | OK | WARNINGS | ![]() | |||||||||||||||||||||||||||||
356/424 | seqCNA.annot 1.37.0 (landing page) | David Mosen-Ansorena | OK | OK | OK | ![]() | |||||||||||||||||||||||||||||
357/424 | serumStimulation 1.37.0 (landing page) | Morten Hansen, | OK | OK | OK | ![]() | |||||||||||||||||||||||||||||
358/424 | sesameData 1.19.0 (landing page) | Wanding Zhou | OK | OK | OK | ![]() | |||||||||||||||||||||||||||||
359/424 | seventyGeneData 1.37.4 (landing page) | Luigi Marchionni | OK | ERROR | skipped | ||||||||||||||||||||||||||||||
360/424 | SFEData 1.3.0 (landing page) | Lambda Moses | OK | OK | OK | ![]() | |||||||||||||||||||||||||||||
361/424 | shinyMethylData 1.21.0 (landing page) | Jean-Philippe Fortin | OK | OK | WARNINGS | ![]() | |||||||||||||||||||||||||||||
362/424 | signatureSearchData 1.15.0 (landing page) | Brendan Gongol | OK | OK | OK | ![]() | |||||||||||||||||||||||||||||
363/424 | SimBenchData 1.9.0 (landing page) | Yue Cao | OK | OK | OK | ![]() | |||||||||||||||||||||||||||||
364/424 | simpIntLists 1.37.0 (landing page) | Kircicegi Korkmaz | OK | OK | WARNINGS | ![]() | |||||||||||||||||||||||||||||
365/424 | Single.mTEC.Transcriptomes 1.29.0 (landing page) | Alejandro Reyes | OK | OK | OK | ![]() | |||||||||||||||||||||||||||||
366/424 | SingleCellMultiModal 1.13.15 (landing page) | Marcel Ramos | OK | OK | OK | ![]() | |||||||||||||||||||||||||||||
367/424 | SingleMoleculeFootprintingData 1.9.0 (landing page) | Guido Barzaghi | OK | OK | OK | ![]() | |||||||||||||||||||||||||||||
368/424 | smokingMouse 0.99.91 (landing page) | Daianna Gonzalez-Padilla | OK | OK | OK | ![]() | |||||||||||||||||||||||||||||
369/424 | SNAData 1.47.0 (landing page) | Denise Scholtens | OK | OK | OK | ![]() | |||||||||||||||||||||||||||||
370/424 | SNAGEEdata 1.37.0 (landing page) | David Venet | OK | OK | OK | ![]() | |||||||||||||||||||||||||||||
371/424 | SNPhoodData 1.31.0 (landing page) | Christian Arnold | OK | OK | OK | ![]() | |||||||||||||||||||||||||||||
372/424 | SomatiCAData 1.39.0 (landing page) | Mengjie Chen | OK | OK | WARNINGS | ![]() | |||||||||||||||||||||||||||||
373/424 | SomaticCancerAlterations 1.37.0 (landing page) | Julian Gehring | OK | OK | OK | ![]() | |||||||||||||||||||||||||||||
374/424 | spatialDmelxsim 1.7.1 (landing page) | Michael Love | OK | OK | OK | ![]() | |||||||||||||||||||||||||||||
375/424 | spatialLIBD 1.13.6 (landing page) | Leonardo Collado-Torres | OK | OK | ERROR | ||||||||||||||||||||||||||||||
376/424 | SpikeIn 1.43.2 (landing page) | Robert D Shear | OK | OK | OK | ![]() | |||||||||||||||||||||||||||||
377/424 | SpikeInSubset 1.41.2 (landing page) | Robert D Shear | OK | OK | WARNINGS | ![]() | |||||||||||||||||||||||||||||
378/424 | spqnData 1.13.0 (landing page) | Yi Wang | OK | OK | OK | ![]() | |||||||||||||||||||||||||||||
379/424 | stemHypoxia 1.37.0 (landing page) | Cristobal Fresno | OK | OK | OK | ![]() | |||||||||||||||||||||||||||||
380/424 | STexampleData 1.9.0 (landing page) | Lukas M. Weber | OK | OK | OK | ![]() | |||||||||||||||||||||||||||||
381/424 | Joern Toedling | OK | OK | WARNINGS | ![]() | ||||||||||||||||||||||||||||||
382/424 | SVM2CRMdata 1.33.0 (landing page) | Guidantonio Malagoli Tagliazucchi | OK | OK | WARNINGS | ![]() | |||||||||||||||||||||||||||||
383/424 | synapterdata 1.39.1 (landing page) | Laurent Gatto | OK | OK | OK | ![]() | |||||||||||||||||||||||||||||
384/424 | systemPipeRdata 2.5.0 (landing page) | Thomas Girke | OK | OK | OK | ![]() | |||||||||||||||||||||||||||||
|
| ||||||||||||||||||||||||||||||||||
Package | Maintainer | INSTALL | BUILD | CHECK | |||||||||||||||||||||||||||||||
385/424 | TabulaMurisData 1.19.0 (landing page) | Charlotte Soneson | OK | OK | OK | ![]() | |||||||||||||||||||||||||||||
386/424 | TabulaMurisSenisData 1.7.0 (landing page) | Charlotte Soneson | OK | OK | OK | ![]() | |||||||||||||||||||||||||||||
387/424 | TargetScoreData 1.37.0 (landing page) | Yue Li | OK | OK | OK | ![]() | |||||||||||||||||||||||||||||
388/424 | TargetSearchData 1.39.0 (landing page) | Alvaro Cuadros-Inostroza | OK | OK | OK | ![]() | |||||||||||||||||||||||||||||
389/424 | tartare 1.15.0 (landing page) | Christian Panse | OK | OK | OK | ![]() | |||||||||||||||||||||||||||||
390/424 | TBX20BamSubset 1.37.0 (landing page) | D. Bindreither | OK | OK | OK | ![]() | |||||||||||||||||||||||||||||
391/424 | TCGAbiolinksGUI.data 1.21.0 (landing page) | Tiago Chedraoui Silva | OK | OK | WARNINGS | ![]() | |||||||||||||||||||||||||||||
392/424 | TCGAcrcmiRNA 1.21.0 (landing page) | Claudio Isella | OK | OK | OK | ![]() | |||||||||||||||||||||||||||||
393/424 | TCGAcrcmRNA 1.21.0 (landing page) | Claudio Isella | OK | OK | OK | ![]() | |||||||||||||||||||||||||||||
394/424 | TCGAMethylation450k 1.37.0 (landing page) | Sean Davis | OK | OK | OK | ![]() | |||||||||||||||||||||||||||||
395/424 | TCGAWorkflowData 1.25.3 (landing page) | Tiago Chedraoui Silva | OK | OK | OK | ![]() | |||||||||||||||||||||||||||||
396/424 | TENxBrainData 1.21.0 (landing page) | Bioconductor Package Maintainer | OK | OK | OK | ![]() | |||||||||||||||||||||||||||||
397/424 | TENxBUSData 1.15.0 (landing page) | Lambda Moses | OK | OK | OK | ![]() | |||||||||||||||||||||||||||||
398/424 | TENxPBMCData 1.19.0 (landing page) | Stephanie Hicks | OK | OK | OK | ![]() | |||||||||||||||||||||||||||||
399/424 | TENxVisiumData 1.9.0 (landing page) | Helena L. Crowell | OK | OK | OK | ![]() | |||||||||||||||||||||||||||||
400/424 | timecoursedata 1.11.0 (landing page) | Nelle Varoquaux | OK | OK | OK | ![]() | |||||||||||||||||||||||||||||
401/424 | TimerQuant 1.31.0 (landing page) | Joseph Barry | OK | OK | OK | ![]() | |||||||||||||||||||||||||||||
402/424 | tinesath1cdf 1.39.0 (landing page) | Tine Casneuf | OK | OK | WARNINGS | ![]() | |||||||||||||||||||||||||||||
403/424 | tinesath1probe 1.39.0 (landing page) | Tine Casneuf | OK | OK | WARNINGS | ![]() | |||||||||||||||||||||||||||||
404/424 | tissueTreg 1.21.4 (landing page) | Charles Imbusch | OK | OK | ERROR | ||||||||||||||||||||||||||||||
405/424 | TMExplorer 1.11.0 (landing page) | Erik Christensen | OK | OK | OK | ![]() | |||||||||||||||||||||||||||||
406/424 | tofsimsData 1.29.0 (landing page) | Lorenz Gerber | OK | OK | WARNINGS | ![]() | |||||||||||||||||||||||||||||
407/424 | topdownrdata 1.23.0 (landing page) | Sebastian Gibb | OK | OK | OK | ![]() | |||||||||||||||||||||||||||||
408/424 | tuberculosis 1.7.0 (landing page) | Lucas Schiffer | OK | OK | OK | ![]() | |||||||||||||||||||||||||||||
409/424 | tweeDEseqCountData (landing page) | ERROR (Bad DESCRIPTION file) | |||||||||||||||||||||||||||||||||
410/424 | tximportData 1.29.0 (landing page) | Michael Love | OK | OK | OK | ![]() | |||||||||||||||||||||||||||||
|
| ||||||||||||||||||||||||||||||||||
Package | Maintainer | INSTALL | BUILD | CHECK | |||||||||||||||||||||||||||||||
411/424 | VariantToolsData 1.25.0 (landing page) | Michael Lawrence | OK | OK | OK | ![]() | |||||||||||||||||||||||||||||
412/424 | VectraPolarisData 1.5.1 (landing page) | Wrobel Julia | OK | OK | OK | ![]() | |||||||||||||||||||||||||||||
413/424 | vulcandata 1.23.0 (landing page) | Federico M. Giorgi | OK | OK | WARNINGS | ![]() | |||||||||||||||||||||||||||||
|
| ||||||||||||||||||||||||||||||||||
Package | Maintainer | INSTALL | BUILD | CHECK | |||||||||||||||||||||||||||||||
414/424 | WeberDivechaLCdata 1.3.0 (landing page) | Lukas M. Weber | OK | OK | OK | ![]() | |||||||||||||||||||||||||||||
415/424 | WES.1KG.WUGSC 1.33.0 (landing page) | Yuchao Jiang | OK | OK | OK | ![]() | |||||||||||||||||||||||||||||
416/424 | WGSmapp 1.13.0 (landing page) | Rujin Wang | OK | OK | WARNINGS | ![]() | |||||||||||||||||||||||||||||
|
| ||||||||||||||||||||||||||||||||||
Package | Maintainer | INSTALL | BUILD | CHECK | |||||||||||||||||||||||||||||||
417/424 | xcoredata 1.5.0 (landing page) | Maciej Migdał | OK | OK | OK | ![]() | |||||||||||||||||||||||||||||
418/424 | XhybCasneuf 1.39.0 (landing page) | Tineke Casneuf | OK | OK | WARNINGS | ![]() | |||||||||||||||||||||||||||||
|
| ||||||||||||||||||||||||||||||||||
Package | Maintainer | INSTALL | BUILD | CHECK | |||||||||||||||||||||||||||||||
419/424 | yeastCC 1.41.0 (landing page) | Sandrine Dudoit | OK | OK | WARNINGS | ![]() | |||||||||||||||||||||||||||||
420/424 | yeastExpData 0.47.0 (landing page) | R. Gentleman | OK | OK | WARNINGS | ![]() | |||||||||||||||||||||||||||||
421/424 | yeastGSData 0.39.0 (landing page) | R. Gentleman | OK | OK | WARNINGS | ![]() | |||||||||||||||||||||||||||||
422/424 | yeastNagalakshmi 1.37.0 (landing page) | Bioconductor Package Maintainer | OK | OK | OK | ![]() | |||||||||||||||||||||||||||||
423/424 | yeastRNASeq 0.39.0 (landing page) | J. Bullard | OK | OK | WARNINGS | ![]() | |||||||||||||||||||||||||||||
|
| ||||||||||||||||||||||||||||||||||
Package | Maintainer | INSTALL | BUILD | CHECK | |||||||||||||||||||||||||||||||
424/424 | zebrafishRNASeq 1.21.0 (landing page) | Davide Risso | OK | OK | OK | ![]() |