Back to Mac ARM64 build report for BioC 3.20
ABCDEFGHIJKLMNOPQ[R]STUVWXYZ

This page was generated on 2024-05-20 11:32:04 -0400 (Mon, 20 May 2024).

HostnameOSArch (*)R versionInstalled pkgs
kjohnson1macOS 13.6.6 Venturaarm644.4.0 Patched (2024-04-24 r86482) -- "Puppy Cup" 4381
Click on any hostname to see more info about the system (e.g. compilers)      (*) as reported by 'uname -p', except on Windows and Mac OS X

All results for package rhdf5client


To the developers/maintainers of the rhdf5client package:
- Use the following Renviron settings to reproduce errors and warnings.
- If 'R CMD check' started to fail recently on the Linux builder(s) over a missing dependency, add the missing dependency to 'Suggests:' in your DESCRIPTION file. See Renviron.bioc for more information.

raw results

Package 1704/2233HostnameOS / ArchINSTALLBUILDCHECKBUILD BIN
rhdf5client 1.27.1  (landing page)
Vincent Carey
Snapshot Date: 2024-05-18 09:00:01 -0400 (Sat, 18 May 2024)
git_url: https://git.bioconductor.org/packages/rhdf5client
git_branch: devel
git_last_commit: 6e27c0c
git_last_commit_date: 2024-05-02 11:25:07 -0400 (Thu, 02 May 2024)
kjohnson1macOS 13.6.6 Ventura / arm64  OK    OK    OK    OK  UNNEEDED, same version is already published

Results for Bioconductor software packages that depend directly on package rhdf5client

QUICK STATSOS / ArchINSTALLBUILDCHECKBUILD BIN
kjohnson1macOS 13.6.6 Ventura / arm64
002
002
0200
002
Package 1/2HostnameOS / ArchINSTALLBUILDCHECKBUILD BIN
phantasus 1.25.0  (landing page)
Alexey Sergushichev
git_last_commit: 1a75bcc
git_last_commit_date: 2024-04-30 11:04:55 -0400
kjohnson1macOS 13.6.6 Ventura / arm64  OK    OK    ERROR    OK  
Package 2/2HostnameOS / ArchINSTALLBUILDCHECKBUILD BIN
phantasusLite 1.3.0  (landing page)
Alexey Sergushichev
git_last_commit: 236c8d2
git_last_commit_date: 2024-04-30 11:52:29 -0400
kjohnson1macOS 13.6.6 Ventura / arm64  OK    OK    ERROR    OK