Back to Mac ARM64 build report for BioC 3.20
ABCDEFGHIJKLMN[O]PQRSTUVWXYZ

This page was generated on 2024-05-20 11:32:03 -0400 (Mon, 20 May 2024).

HostnameOSArch (*)R versionInstalled pkgs
kjohnson1macOS 13.6.6 Venturaarm644.4.0 Patched (2024-04-24 r86482) -- "Puppy Cup" 4381
Click on any hostname to see more info about the system (e.g. compilers)      (*) as reported by 'uname -p', except on Windows and Mac OS X

All results for package omicade4


To the developers/maintainers of the omicade4 package:
- Use the following Renviron settings to reproduce errors and warnings.
- If 'R CMD check' started to fail recently on the Linux builder(s) over a missing dependency, add the missing dependency to 'Suggests:' in your DESCRIPTION file. See Renviron.bioc for more information.

raw results

Package 1414/2233HostnameOS / ArchINSTALLBUILDCHECKBUILD BIN
omicade4 1.45.0  (landing page)
Chen Meng
Snapshot Date: 2024-05-18 09:00:01 -0400 (Sat, 18 May 2024)
git_url: https://git.bioconductor.org/packages/omicade4
git_branch: devel
git_last_commit: 1791858
git_last_commit_date: 2024-04-30 10:33:31 -0400 (Tue, 30 Apr 2024)
kjohnson1macOS 13.6.6 Ventura / arm64  OK    OK    OK    OK  UNNEEDED, same version is already published

Results for Bioconductor software packages that depend directly on package omicade4

QUICK STATSOS / ArchINSTALLBUILDCHECKBUILD BIN
kjohnson1macOS 13.6.6 Ventura / arm64
001
001
0001
001
Package 1/1HostnameOS / ArchINSTALLBUILDCHECKBUILD BIN
omicRexposome 1.27.0  (landing page)
Xavier Escribà Montagut
git_last_commit: 33b689f
git_last_commit_date: 2024-04-30 11:01:12 -0400
kjohnson1macOS 13.6.6 Ventura / arm64  OK    OK    OK    OK  UNNEEDED, same version is already published