Back to Mac ARM64 build report for BioC 3.20
ABCDEFGHIJKL[M]NOPQRSTUVWXYZ

This page was generated on 2024-05-20 11:32:03 -0400 (Mon, 20 May 2024).

HostnameOSArch (*)R versionInstalled pkgs
kjohnson1macOS 13.6.6 Venturaarm644.4.0 Patched (2024-04-24 r86482) -- "Puppy Cup" 4381
Click on any hostname to see more info about the system (e.g. compilers)      (*) as reported by 'uname -p', except on Windows and Mac OS X

All results for package meshr


To the developers/maintainers of the meshr package:
- Use the following Renviron settings to reproduce errors and warnings.
- If 'R CMD check' started to fail recently on the Linux builder(s) over a missing dependency, add the missing dependency to 'Suggests:' in your DESCRIPTION file. See Renviron.bioc for more information.

raw results

Package 1166/2233HostnameOS / ArchINSTALLBUILDCHECKBUILD BIN
meshr 2.11.0  (landing page)
Koki Tsuyuzaki
Snapshot Date: 2024-05-18 09:00:01 -0400 (Sat, 18 May 2024)
git_url: https://git.bioconductor.org/packages/meshr
git_branch: devel
git_last_commit: ce0f2de
git_last_commit_date: 2024-04-30 10:36:24 -0400 (Tue, 30 Apr 2024)
kjohnson1macOS 13.6.6 Ventura / arm64  OK    OK    OK    OK  UNNEEDED, same version is already published

Results for Bioconductor software packages that depend directly on package meshr

QUICK STATSOS / ArchINSTALLBUILDCHECKBUILD BIN
kjohnson1macOS 13.6.6 Ventura / arm64
001
001
0010
001
Package 1/1HostnameOS / ArchINSTALLBUILDCHECKBUILD BIN
scTensor 2.15.0  (landing page)
Koki Tsuyuzaki
git_last_commit: 29f39d9
git_last_commit_date: 2024-04-30 11:11:19 -0400
kjohnson1macOS 13.6.6 Ventura / arm64  OK    OK    WARNINGS    OK  UNNEEDED, same version is already published