Back to Mac ARM64 build report for BioC 3.20
ABCDEFGHIJKL[M]NOPQRSTUVWXYZ

This page was generated on 2024-05-20 11:32:02 -0400 (Mon, 20 May 2024).

HostnameOSArch (*)R versionInstalled pkgs
kjohnson1macOS 13.6.6 Venturaarm644.4.0 Patched (2024-04-24 r86482) -- "Puppy Cup" 4381
Click on any hostname to see more info about the system (e.g. compilers)      (*) as reported by 'uname -p', except on Windows and Mac OS X

All results for package MAST


To the developers/maintainers of the MAST package:
- Use the following Renviron settings to reproduce errors and warnings.
- If 'R CMD check' started to fail recently on the Linux builder(s) over a missing dependency, add the missing dependency to 'Suggests:' in your DESCRIPTION file. See Renviron.bioc for more information.

raw results

Package 1132/2233HostnameOS / ArchINSTALLBUILDCHECKBUILD BIN
MAST 1.31.0  (landing page)
Andrew McDavid
Snapshot Date: 2024-05-18 09:00:01 -0400 (Sat, 18 May 2024)
git_url: https://git.bioconductor.org/packages/MAST
git_branch: devel
git_last_commit: a6dde6d
git_last_commit_date: 2024-04-30 10:54:15 -0400 (Tue, 30 Apr 2024)
kjohnson1macOS 13.6.6 Ventura / arm64  OK    OK    ERROR    OK  

Results for Bioconductor software packages that depend directly on package MAST

QUICK STATSOS / ArchINSTALLBUILDCHECKBUILD BIN
kjohnson1macOS 13.6.6 Ventura / arm64
004
004
0004
004
Package 1/4HostnameOS / ArchINSTALLBUILDCHECKBUILD BIN
benchdamic 1.11.0  (landing page)
Matteo Calgaro
git_last_commit: be905b6
git_last_commit_date: 2024-04-30 11:38:25 -0400
kjohnson1macOS 13.6.6 Ventura / arm64  OK    OK    OK    OK  UNNEEDED, same version is already published
Package 2/4HostnameOS / ArchINSTALLBUILDCHECKBUILD BIN
celaref 1.23.0  (landing page)
Sarah Williams
git_last_commit: c4533d6
git_last_commit_date: 2024-04-30 11:08:16 -0400
kjohnson1macOS 13.6.6 Ventura / arm64  OK    OK    OK    OK  UNNEEDED, same version is already published
Package 3/4HostnameOS / ArchINSTALLBUILDCHECKBUILD BIN
POWSC 1.13.0  (landing page)
Kenong Su
git_last_commit: 2cefe0c
git_last_commit_date: 2024-04-30 11:34:18 -0400
kjohnson1macOS 13.6.6 Ventura / arm64  OK    OK    OK    OK  UNNEEDED, same version is already published
Package 4/4HostnameOS / ArchINSTALLBUILDCHECKBUILD BIN
singleCellTK 2.15.0  (landing page)
Joshua David Campbell
git_last_commit: 4d7a515
git_last_commit_date: 2024-04-30 11:06:02 -0400
kjohnson1macOS 13.6.6 Ventura / arm64  OK    OK    OK    OK  UNNEEDED, same version is already published