Back to Mac ARM64 build report for BioC 3.20
ABC[D]EFGHIJKLMNOPQRSTUVWXYZ

This page was generated on 2024-05-20 11:31:59 -0400 (Mon, 20 May 2024).

HostnameOSArch (*)R versionInstalled pkgs
kjohnson1macOS 13.6.6 Venturaarm644.4.0 Patched (2024-04-24 r86482) -- "Puppy Cup" 4381
Click on any hostname to see more info about the system (e.g. compilers)      (*) as reported by 'uname -p', except on Windows and Mac OS X

All results for package DEGraph


To the developers/maintainers of the DEGraph package:
- Use the following Renviron settings to reproduce errors and warnings.
- If 'R CMD check' started to fail recently on the Linux builder(s) over a missing dependency, add the missing dependency to 'Suggests:' in your DESCRIPTION file. See Renviron.bioc for more information.

raw results

Package 517/2233HostnameOS / ArchINSTALLBUILDCHECKBUILD BIN
DEGraph   (landing page)

Snapshot Date: 2024-05-18 09:00:01 -0400 (Sat, 18 May 2024)
git_url: https://git.bioconductor.org/packages/DEGraph
git_branch: devel
git_last_commit: d53511c
git_last_commit_date: 2024-04-30 10:23:06 -0400 (Tue, 30 Apr 2024)
kjohnson1macOS 13.6.6 Ventura / arm64... NOT SUPPORTED ...