Back to Multiple platform build/check report for BioC 3.20:   simplified   long
ABCDEFGHIJKLMNOPQRSTUVWXY[Z]

This page was generated on 2024-07-18 11:41 -0400 (Thu, 18 Jul 2024).

HostnameOSArch (*)R versionInstalled pkgs
nebbiolo2Linux (Ubuntu 22.04.3 LTS)x86_644.4.1 (2024-06-14) -- "Race for Your Life" 4683
palomino8Windows Server 2022 Datacenterx644.4.1 (2024-06-14 ucrt) -- "Race for Your Life" 4379
lconwaymacOS 12.7.1 Montereyx86_644.4.1 (2024-06-14) -- "Race for Your Life" 4450
kjohnson3macOS 13.6.5 Venturaarm644.4.1 (2024-06-14) -- "Race for Your Life" 4399
Click on any hostname to see more info about the system (e.g. compilers)      (*) as reported by 'uname -p', except on Windows and Mac OS X

Package 2246/2248HostnameOS / ArchINSTALLBUILDCHECKBUILD BIN
zitools 0.99.3  (landing page)
Carlotta Meyring
Snapshot Date: 2024-07-17 14:00 -0400 (Wed, 17 Jul 2024)
git_url: https://git.bioconductor.org/packages/zitools
git_branch: devel
git_last_commit: 5f45d49
git_last_commit_date: 2024-04-24 10:21:43 -0400 (Wed, 24 Apr 2024)
nebbiolo2Linux (Ubuntu 22.04.3 LTS) / x86_64  OK    OK    ERROR  
palomino8Windows Server 2022 Datacenter / x64  OK    OK    OK    OK  UNNEEDED, same version is already published
lconwaymacOS 12.7.1 Monterey / x86_64  OK    OK    OK    OK  UNNEEDED, same version is already published
kjohnson3macOS 13.6.5 Ventura / arm64  OK    OK    OK    OK  UNNEEDED, same version is already published


BUILD BIN results for zitools on lconway

To the developers/maintainers of the zitools package:
- Allow up to 24 hours (and sometimes 48 hours) for your latest push to git@git.bioconductor.org:packages/zitools.git to reflect on this report. See Troubleshooting Build Report for more information.
- Use the following Renviron settings to reproduce errors and warnings.
- If 'R CMD check' started to fail recently on the Linux builder(s) over a missing dependency, add the missing dependency to 'Suggests:' in your DESCRIPTION file. See Renviron.bioc for more information.

raw results


Summary

Package: zitools
Version: 0.99.3
Command: rm -rf zitools.buildbin-libdir && mkdir zitools.buildbin-libdir && /Users/biocbuild/BBS/utils/build-universal.sh zitools_0.99.3.tar.gz /Library/Frameworks/R.framework/Resources/bin/R zitools.buildbin-libdir
StartedAt: 2024-07-18 02:04:55 -0400 (Thu, 18 Jul 2024)
EndedAt: 2024-07-18 02:05:35 -0400 (Thu, 18 Jul 2024)
EllapsedTime: 39.5 seconds
RetCode: 0
Status:   OK  
PackageFile: zitools_0.99.3.tgz
PackageFileSize: 753.3 KiB

Command output

##############################################################################
##############################################################################
###
### Running command:
###
###   rm -rf zitools.buildbin-libdir && mkdir zitools.buildbin-libdir && /Users/biocbuild/BBS/utils/build-universal.sh zitools_0.99.3.tar.gz /Library/Frameworks/R.framework/Resources/bin/R zitools.buildbin-libdir
###
##############################################################################
##############################################################################


>>>>>>> 
>>>>>>> INSTALLATION WITH 'R CMD INSTALL --preclean --no-multiarch --library=zitools.buildbin-libdir zitools_0.99.3.tar.gz'
>>>>>>> 

* installing *source* package ‘zitools’ ...
** using staged installation
** R
** data
** inst
** byte-compile and prepare package for lazy loading
Creating a new generic function for ‘weights’ in package ‘zitools’
Creating a new generic function for ‘weightedSd’ in package ‘zitools’
Creating a generic function for ‘cov’ from package ‘stats’ in package ‘zitools’
** help
*** installing help indices
** building package indices
** installing vignettes
** testing if installed package can be loaded from temporary location
** testing if installed package can be loaded from final location
** testing if installed package keeps a record of temporary installation path
* DONE (zitools)