Back to Multiple platform build/check report for BioC 3.14
ABCDEFGHIJKLMNOPQRSTU[V]WXYZ

This page was generated on 2021-10-21 12:05:10 -0400 (Thu, 21 Oct 2021).

CHECK results for vulcan on riesling1

To the developers/maintainers of the vulcan package:
- Please allow up to 24 hours (and sometimes 48 hours) for your latest push to git@git.bioconductor.org:packages/vulcan.git to
reflect on this report. See How and When does the builder pull? When will my changes propagate? here for more information.
- Make sure to use the following settings in order to reproduce any error or warning you see on this page.

raw results

Package 2049/2075HostnameOS / ArchINSTALLBUILDCHECKBUILD BIN
vulcan 1.15.0  (landing page)
Federico M. Giorgi
Snapshot Date: 2021-10-20 14:50:05 -0400 (Wed, 20 Oct 2021)
git_url: https://git.bioconductor.org/packages/vulcan
git_branch: master
git_last_commit: 7a47a6c
git_last_commit_date: 2021-05-19 12:30:45 -0400 (Wed, 19 May 2021)
nebbiolo2Linux (Ubuntu 20.04.2 LTS) / x86_64  OK    OK    OK  UNNEEDED, same version is already published
riesling1Windows Server 2019 Standard / x64  OK    OK    OK    OK  UNNEEDED, same version is already published
merida1macOS 10.14.6 Mojave / x86_64  OK    OK    OK    NA  

Summary

Package: vulcan
Version: 1.15.0
Command: D:\biocbuild\bbs-3.14-bioc\R\bin\R.exe CMD check --force-multiarch --install=check:vulcan.install-out.txt --library=D:\biocbuild\bbs-3.14-bioc\R\library --no-vignettes --timings vulcan_1.15.0.tar.gz
StartedAt: 2021-10-21 04:31:16 -0400 (Thu, 21 Oct 2021)
EndedAt: 2021-10-21 04:40:52 -0400 (Thu, 21 Oct 2021)
EllapsedTime: 576.0 seconds
RetCode: 0
Status:   OK  
CheckDir: vulcan.Rcheck
Warnings: 0

Command output

##############################################################################
##############################################################################
###
### Running command:
###
###   D:\biocbuild\bbs-3.14-bioc\R\bin\R.exe CMD check --force-multiarch --install=check:vulcan.install-out.txt --library=D:\biocbuild\bbs-3.14-bioc\R\library --no-vignettes --timings vulcan_1.15.0.tar.gz
###
##############################################################################
##############################################################################


* using log directory 'D:/biocbuild/bbs-3.14-bioc/meat/vulcan.Rcheck'
* using R version 4.1.1 (2021-08-10)
* using platform: x86_64-w64-mingw32 (64-bit)
* using session charset: ISO8859-1
* using option '--no-vignettes'
* checking for file 'vulcan/DESCRIPTION' ... OK
* checking extension type ... Package
* this is package 'vulcan' version '1.15.0'
* package encoding: UTF-8
* checking package namespace information ... OK
* checking package dependencies ... NOTE
Depends: includes the non-default packages:
  'ChIPpeakAnno', 'TxDb.Hsapiens.UCSC.hg19.knownGene', 'zoo',
  'GenomicRanges', 'S4Vectors', 'viper', 'DiffBind', 'locfit'
Adding so many packages to the search path is excessive and importing
selectively is preferable.
* checking if this is a source package ... OK
* checking if there is a namespace ... OK
* checking for hidden files and directories ... OK
* checking for portable file names ... OK
* checking whether package 'vulcan' can be installed ... OK
* checking installed package size ... OK
* checking package directory ... OK
* checking 'build' directory ... OK
* checking DESCRIPTION meta-information ... OK
* checking top-level files ... OK
* checking for left-over files ... OK
* checking index information ... OK
* checking package subdirectories ... OK
* checking R files for non-ASCII characters ... OK
* checking R files for syntax errors ... OK
* loading checks for arch 'i386'
** checking whether the package can be loaded ... OK
** checking whether the package can be loaded with stated dependencies ... OK
** checking whether the package can be unloaded cleanly ... OK
** checking whether the namespace can be loaded with stated dependencies ... OK
** checking whether the namespace can be unloaded cleanly ... OK
* loading checks for arch 'x64'
** checking whether the package can be loaded ... OK
** checking whether the package can be loaded with stated dependencies ... OK
** checking whether the package can be unloaded cleanly ... OK
** checking whether the namespace can be loaded with stated dependencies ... OK
** checking whether the namespace can be unloaded cleanly ... OK
* checking dependencies in R code ... OK
* checking S3 generic/method consistency ... OK
* checking replacement functions ... OK
* checking foreign function calls ... OK
* checking R code for possible problems ... NOTE
vulcan.normalize: no visible global function definition for 'assay'
Undefined global functions or variables:
  assay
* checking Rd files ... OK
* checking Rd metadata ... OK
* checking Rd cross-references ... OK
* checking for missing documentation entries ... OK
* checking for code/documentation mismatches ... OK
* checking Rd \usage sections ... OK
* checking Rd contents ... OK
* checking for unstated dependencies in examples ... OK
* checking files in 'vignettes' ... OK
* checking examples ...
** running examples for arch 'i386' ... OK
** running examples for arch 'x64' ... OK
* checking for unstated dependencies in vignettes ... OK
* checking package vignettes in 'inst/doc' ... OK
* checking running R code from vignettes ... SKIPPED
* checking re-building of vignette outputs ... SKIPPED
* checking PDF version of manual ... OK
* DONE

Status: 2 NOTEs
See
  'D:/biocbuild/bbs-3.14-bioc/meat/vulcan.Rcheck/00check.log'
for details.



Installation output

vulcan.Rcheck/00install.out

##############################################################################
##############################################################################
###
### Running command:
###
###   C:\cygwin\bin\curl.exe -O http://155.52.207.166/BBS/3.14/bioc/src/contrib/vulcan_1.15.0.tar.gz && rm -rf vulcan.buildbin-libdir && mkdir vulcan.buildbin-libdir && D:\biocbuild\bbs-3.14-bioc\R\bin\R.exe CMD INSTALL --merge-multiarch --build --library=vulcan.buildbin-libdir vulcan_1.15.0.tar.gz && D:\biocbuild\bbs-3.14-bioc\R\bin\R.exe CMD INSTALL vulcan_1.15.0.zip && rm vulcan_1.15.0.tar.gz vulcan_1.15.0.zip
###
##############################################################################
##############################################################################


  % Total    % Received % Xferd  Average Speed   Time    Time     Time  Current
                                 Dload  Upload   Total   Spent    Left  Speed

  0     0    0     0    0     0      0      0 --:--:-- --:--:-- --:--:--     0
100  143k  100  143k    0     0   587k      0 --:--:-- --:--:-- --:--:--  587k

install for i386

* installing *source* package 'vulcan' ...
** using staged installation
** R
** inst
** byte-compile and prepare package for lazy loading
** help
*** installing help indices
  converting help for package 'vulcan'
    finding HTML links ... done
    average_fragment_length                 html  
    corr2p                                  html  
    densityauc                              html  
    dpareto                                 html  
    fisherp                                 html  
    gsea                                    html  
    kmgformat                               html  
    null_gsea                               html  
    p2corr                                  html  
    p2z                                     html  
    pareto.fit                              html  
    plot_gsea                               html  
    ppareto                                 html  
    rea                                     html  
    slice                                   html  
    stouffer                                html  
    textplot2                               html  
    val2col                                 html  
    vulcan                                  html  
    vulcan.annotate                         html  
    vulcan.import                           html  
    vulcan.normalize                        html  
    vulcan.pathways                         html  
    wstouffer                               html  
    z2p                                     html  
** building package indices
** installing vignettes
** testing if installed package can be loaded from temporary location
** testing if installed package can be loaded from final location
** testing if installed package keeps a record of temporary installation path

install for x64

* installing *source* package 'vulcan' ...
** testing if installed package can be loaded
* MD5 sums
packaged installation of 'vulcan' as vulcan_1.15.0.zip
* DONE (vulcan)
* installing to library 'D:/biocbuild/bbs-3.14-bioc/R/library'
package 'vulcan' successfully unpacked and MD5 sums checked

Tests output


Example timings

vulcan.Rcheck/examples_i386/vulcan-Ex.timings

nameusersystemelapsed
average_fragment_length3.420.274.34
corr2p000
densityauc0.010.000.01
dpareto0.020.000.02
fisherp000
gsea0.140.010.16
kmgformat0.040.000.04
null_gsea0.020.000.02
p2corr000
p2z000
pareto.fit0.030.000.03
plot_gsea0.020.000.02
ppareto000
rea000
slice000
stouffer000
textplot20.10.00.1
val2col0.010.000.02
vulcan3.470.143.62
vulcan.annotate1.440.051.49
vulcan.import0.010.000.01
vulcan.normalize000
vulcan.pathways3.360.003.36
wstouffer000
z2p000

vulcan.Rcheck/examples_x64/vulcan-Ex.timings

nameusersystemelapsed
average_fragment_length2.680.313.00
corr2p000
densityauc0.020.000.02
dpareto000
fisherp000
gsea0.150.000.15
kmgformat0.050.000.05
null_gsea0.010.000.01
p2corr000
p2z000
pareto.fit0.020.000.02
plot_gsea0.020.000.02
ppareto0.000.020.01
rea000
slice000
stouffer000
textplot20.110.000.11
val2col000
vulcan4.550.084.62
vulcan.annotate1.420.011.44
vulcan.import0.030.000.03
vulcan.normalize000
vulcan.pathways2.880.022.89
wstouffer000
z2p000