Back to Multiple platform build/check report for BioC 3.14
ABCDEFGHIJKLMNOPQRSTU[V]WXYZ

This page was generated on 2021-10-21 12:05:10 -0400 (Thu, 21 Oct 2021).

BUILD BIN results for vulcan on riesling1

To the developers/maintainers of the vulcan package:
- Please allow up to 24 hours (and sometimes 48 hours) for your latest push to git@git.bioconductor.org:packages/vulcan.git to
reflect on this report. See How and When does the builder pull? When will my changes propagate? here for more information.
- Make sure to use the following settings in order to reproduce any error or warning you see on this page.

raw results

Package 2049/2075HostnameOS / ArchINSTALLBUILDCHECKBUILD BIN
vulcan 1.15.0  (landing page)
Federico M. Giorgi
Snapshot Date: 2021-10-20 14:50:05 -0400 (Wed, 20 Oct 2021)
git_url: https://git.bioconductor.org/packages/vulcan
git_branch: master
git_last_commit: 7a47a6c
git_last_commit_date: 2021-05-19 12:30:45 -0400 (Wed, 19 May 2021)
nebbiolo2Linux (Ubuntu 20.04.2 LTS) / x86_64  OK    OK    OK  UNNEEDED, same version is already published
riesling1Windows Server 2019 Standard / x64  OK    OK    OK    OK  UNNEEDED, same version is already published
merida1macOS 10.14.6 Mojave / x86_64  OK    OK    OK    NA  

Summary

Package: vulcan
Version: 1.15.0
Command: rm -rf vulcan.buildbin-libdir && mkdir vulcan.buildbin-libdir && D:\biocbuild\bbs-3.14-bioc\R\bin\R.exe CMD INSTALL --merge-multiarch --build --library=vulcan.buildbin-libdir vulcan_1.15.0.tar.gz
StartedAt: 2021-10-21 08:55:16 -0400 (Thu, 21 Oct 2021)
EndedAt: 2021-10-21 08:59:31 -0400 (Thu, 21 Oct 2021)
EllapsedTime: 255.1 seconds
RetCode: 0
Status:   OK  
PackageFile: vulcan_1.15.0.zip
PackageFileSize: 410.7 KiB

Command output

##############################################################################
##############################################################################
###
### Running command:
###
###   rm -rf vulcan.buildbin-libdir && mkdir vulcan.buildbin-libdir && D:\biocbuild\bbs-3.14-bioc\R\bin\R.exe CMD INSTALL --merge-multiarch --build --library=vulcan.buildbin-libdir vulcan_1.15.0.tar.gz
###
##############################################################################
##############################################################################



install for i386

* installing *source* package 'vulcan' ...
** using staged installation
** R
** inst
** byte-compile and prepare package for lazy loading
** help
*** installing help indices
  converting help for package 'vulcan'
    finding HTML links ... done
    average_fragment_length                 html  
    corr2p                                  html  
    densityauc                              html  
    dpareto                                 html  
    fisherp                                 html  
    gsea                                    html  
    kmgformat                               html  
    null_gsea                               html  
    p2corr                                  html  
    p2z                                     html  
    pareto.fit                              html  
    plot_gsea                               html  
    ppareto                                 html  
    rea                                     html  
    slice                                   html  
    stouffer                                html  
    textplot2                               html  
    val2col                                 html  
    vulcan                                  html  
    vulcan.annotate                         html  
    vulcan.import                           html  
    vulcan.normalize                        html  
    vulcan.pathways                         html  
    wstouffer                               html  
    z2p                                     html  
** building package indices
** installing vignettes
** testing if installed package can be loaded from temporary location
** testing if installed package can be loaded from final location
** testing if installed package keeps a record of temporary installation path

install for x64

* installing *source* package 'vulcan' ...
** testing if installed package can be loaded
* MD5 sums
packaged installation of 'vulcan' as vulcan_1.15.0.zip
* DONE (vulcan)