Index of /checkResults/devel/bioc-LATEST/vulcan/raw-results/nebbiolo1

[ICO]NameLast modifiedSizeDescription

[DIR]Parent Directory  -  
[TXT]buildsrc-out.txt27-Jan-2022 01:07 842  
[   ]buildsrc-summary.dcf27-Jan-2022 01:07 414  
[TXT]checksrc-out.txt27-Jan-2022 01:07 3.4K 
[   ]checksrc-summary.dcf27-Jan-2022 01:07 420  
[TXT]install-out.txt27-Jan-2022 01:07 944  
[   ]install-summary.dcf27-Jan-2022 01:07 257