Back to Multiple platform build/check report for BioC 3.14
ABCDEFGHIJKLMNOPQRSTU[V]WXYZ

This page was generated on 2021-10-25 14:06:03 -0400 (Mon, 25 Oct 2021).

INSTALL results for vulcan on nebbiolo2

To the developers/maintainers of the vulcan package:
- Please allow up to 24 hours (and sometimes 48 hours) for your latest push to git@git.bioconductor.org:packages/vulcan.git to
reflect on this report. See How and When does the builder pull? When will my changes propagate? here for more information.
- Make sure to use the following settings in order to reproduce any error or warning you see on this page.

raw results

Package 2057/2083HostnameOS / ArchINSTALLBUILDCHECKBUILD BIN
vulcan 1.15.0  (landing page)
Federico M. Giorgi
Snapshot Date: 2021-10-24 14:50:04 -0400 (Sun, 24 Oct 2021)
git_url: https://git.bioconductor.org/packages/vulcan
git_branch: master
git_last_commit: 7a47a6c
git_last_commit_date: 2021-05-19 12:30:45 -0400 (Wed, 19 May 2021)
nebbiolo2Linux (Ubuntu 20.04.2 LTS) / x86_64  OK    OK    OK  UNNEEDED, same version is already published
riesling1Windows Server 2019 Standard / x64  OK    OK    OK    OK  UNNEEDED, same version is already published
merida1macOS 10.14.6 Mojave / x86_64  OK    OK    OK    OK  UNNEEDED, same version is already published
machv2macOS 10.14.6 Mojave / x86_64  OK    OK    OK    OK  

Summary

Package: vulcan
Version: 1.15.0
Command: /home/biocbuild/bbs-3.14-bioc/R/bin/R CMD INSTALL vulcan
StartedAt: 2021-10-24 16:37:24 -0400 (Sun, 24 Oct 2021)
EndedAt: 2021-10-24 16:38:15 -0400 (Sun, 24 Oct 2021)
EllapsedTime: 51.5 seconds
RetCode: 0
Status:   OK  

Command output

##############################################################################
##############################################################################
###
### Running command:
###
###   /home/biocbuild/bbs-3.14-bioc/R/bin/R CMD INSTALL vulcan
###
##############################################################################
##############################################################################


* installing to library ‘/home/biocbuild/bbs-3.14-bioc/R/library’
* installing *source* package ‘vulcan’ ...
** using staged installation
** R
** inst
** byte-compile and prepare package for lazy loading
** help
*** installing help indices
** building package indices
** installing vignettes
** testing if installed package can be loaded from temporary location
** testing if installed package can be loaded from final location
** testing if installed package keeps a record of temporary installation path
* DONE (vulcan)