Back to Multiple platform build/check report for BioC 3.14
ABCDEFGHIJKLMNOPQRSTU[V]WXYZ

This page was generated on 2021-10-14 12:06:26 -0400 (Thu, 14 Oct 2021).

BUILD results for vulcan on merida1

To the developers/maintainers of the vulcan package:
- Please allow up to 24 hours (and sometimes 48 hours) for your latest push to git@git.bioconductor.org:packages/vulcan.git to
reflect on this report. See How and When does the builder pull? When will my changes propagate? here for more information.
- Make sure to use the following settings in order to reproduce any error or warning you see on this page.

raw results

Package 2030/2056HostnameOS / ArchINSTALLBUILDCHECKBUILD BIN
vulcan 1.15.0  (landing page)
Federico M. Giorgi
Snapshot Date: 2021-10-13 14:50:09 -0400 (Wed, 13 Oct 2021)
git_url: https://git.bioconductor.org/packages/vulcan
git_branch: master
git_last_commit: 7a47a6c
git_last_commit_date: 2021-05-19 12:30:45 -0400 (Wed, 19 May 2021)
nebbiolo2Linux (Ubuntu 20.04.2 LTS) / x86_64  OK    OK    OK  UNNEEDED, same version is already published
riesling1Windows Server 2019 Standard / x64  OK    OK    OK    OK  UNNEEDED, same version is already published
merida1macOS 10.14.6 Mojave / x86_64  OK    OK    OK    NA  

Summary

Package: vulcan
Version: 1.15.0
Command: /Library/Frameworks/R.framework/Resources/bin/R CMD build --keep-empty-dirs --no-resave-data vulcan
StartedAt: 2021-10-13 23:40:07 -0400 (Wed, 13 Oct 2021)
EndedAt: 2021-10-13 23:41:57 -0400 (Wed, 13 Oct 2021)
EllapsedTime: 109.5 seconds
RetCode: 0
Status:   OK  
PackageFile: vulcan_1.15.0.tar.gz
PackageFileSize: 302.6 KiB

Command output

##############################################################################
##############################################################################
###
### Running command:
###
###   /Library/Frameworks/R.framework/Resources/bin/R CMD build --keep-empty-dirs --no-resave-data vulcan
###
##############################################################################
##############################################################################


* checking for file ‘vulcan/DESCRIPTION’ ... OK
* preparing ‘vulcan’:
* checking DESCRIPTION meta-information ... OK
* installing the package to build vignettes
* creating vignettes ... OK
* checking for LF line-endings in source and make files and shell scripts
* checking for empty or unneeded directories
Omitted ‘LazyData’ from DESCRIPTION
* building ‘vulcan_1.15.0.tar.gz’