Back to Multiple platform build/check report for BioC 3.14
ABCDEFGHIJKLMNOPQRSTU[V]WXYZ

This page was generated on 2021-09-20 12:05:29 -0400 (Mon, 20 Sep 2021).

INSTALL results for vtpnet on riesling1

To the developers/maintainers of the vtpnet package:
- Please allow up to 24 hours (and sometimes 48 hours) for your latest push to git@git.bioconductor.org:packages/vtpnet.git to
reflect on this report. See How and When does the builder pull? When will my changes propagate? here for more information.
- Make sure to use the following settings in order to reproduce any error or warning you see on this page.

raw results

Package 2002/2029HostnameOS / ArchINSTALLBUILDCHECKBUILD BIN
vtpnet 0.33.0  (landing page)
VJ Carey
Snapshot Date: 2021-09-19 14:50:04 -0400 (Sun, 19 Sep 2021)
git_url: https://git.bioconductor.org/packages/vtpnet
git_branch: master
git_last_commit: 9ed355f
git_last_commit_date: 2021-05-19 11:59:05 -0400 (Wed, 19 May 2021)
nebbiolo2Linux (Ubuntu 20.04.2 LTS) / x86_64  OK    OK    OK  UNNEEDED, same version is already published
riesling1Windows Server 2019 Standard / x64  OK    OK    OK    OK  UNNEEDED, same version is already published
merida1macOS 10.14.6 Mojave / x86_64  OK    OK    OK    OK  UNNEEDED, same version is already published

Summary

Package: vtpnet
Version: 0.33.0
Command: C:\cygwin\bin\curl.exe -O http://155.52.207.166/BBS/3.14/bioc/src/contrib/vtpnet_0.33.0.tar.gz && rm -rf vtpnet.buildbin-libdir && mkdir vtpnet.buildbin-libdir && D:\biocbuild\bbs-3.14-bioc\R\bin\R.exe CMD INSTALL --merge-multiarch --build --library=vtpnet.buildbin-libdir vtpnet_0.33.0.tar.gz && D:\biocbuild\bbs-3.14-bioc\R\bin\R.exe CMD INSTALL vtpnet_0.33.0.zip && rm vtpnet_0.33.0.tar.gz vtpnet_0.33.0.zip
StartedAt: 2021-09-19 18:39:25 -0400 (Sun, 19 Sep 2021)
EndedAt: 2021-09-19 18:42:12 -0400 (Sun, 19 Sep 2021)
EllapsedTime: 166.9 seconds
RetCode: 0
Status:   OK  

Command output

##############################################################################
##############################################################################
###
### Running command:
###
###   C:\cygwin\bin\curl.exe -O http://155.52.207.166/BBS/3.14/bioc/src/contrib/vtpnet_0.33.0.tar.gz && rm -rf vtpnet.buildbin-libdir && mkdir vtpnet.buildbin-libdir && D:\biocbuild\bbs-3.14-bioc\R\bin\R.exe CMD INSTALL --merge-multiarch --build --library=vtpnet.buildbin-libdir vtpnet_0.33.0.tar.gz && D:\biocbuild\bbs-3.14-bioc\R\bin\R.exe CMD INSTALL vtpnet_0.33.0.zip && rm vtpnet_0.33.0.tar.gz vtpnet_0.33.0.zip
###
##############################################################################
##############################################################################


  % Total    % Received % Xferd  Average Speed   Time    Time     Time  Current
                                 Dload  Upload   Total   Spent    Left  Speed

  0     0    0     0    0     0      0      0 --:--:-- --:--:-- --:--:--     0
 15 19.9M   15 3136k    0     0  3852k      0  0:00:05 --:--:--  0:00:05 3848k
 43 19.9M   43 8861k    0     0  4882k      0  0:00:04  0:00:01  0:00:03 4879k
 75 19.9M   75 15.1M    0     0  5516k      0  0:00:03  0:00:02  0:00:01 5514k
100 19.9M  100 19.9M    0     0  5881k      0  0:00:03  0:00:03 --:--:-- 5882k

install for i386

* installing *source* package 'vtpnet' ...
** using staged installation
** R
** data
** byte-compile and prepare package for lazy loading
** help
*** installing help indices
  converting help for package 'vtpnet'
    finding HTML links ... done
    vtpnet-package                          html  
** building package indices
** installing vignettes
** testing if installed package can be loaded from temporary location
** testing if installed package can be loaded from final location
** testing if installed package keeps a record of temporary installation path

install for x64

* installing *source* package 'vtpnet' ...
** testing if installed package can be loaded
* MD5 sums
packaged installation of 'vtpnet' as vtpnet_0.33.0.zip
* DONE (vtpnet)
* installing to library 'D:/biocbuild/bbs-3.14-bioc/R/library'
package 'vtpnet' successfully unpacked and MD5 sums checked