Back to Multiple platform build/check report for BioC 3.14
ABCDEFGHIJKLMNOPQRSTU[V]WXYZ

This page was generated on 2021-06-21 12:05:55 -0400 (Mon, 21 Jun 2021).

BUILD results for vtpnet on riesling1

To the developers/maintainers of the vtpnet package:
- Please allow up to 24 hours (and sometimes 48 hours) for your latest push to git@git.bioconductor.org:packages/vtpnet.git to
reflect on this report. See How and When does the builder pull? When will my changes propagate? here for more information.
- Make sure to use the following settings in order to reproduce any error or warning you see on this page.

raw results

Package 1966/1993HostnameOS / ArchINSTALLBUILDCHECKBUILD BIN
vtpnet 0.33.0  (landing page)
VJ Carey
Snapshot Date: 2021-06-20 14:50:05 -0400 (Sun, 20 Jun 2021)
URL: https://git.bioconductor.org/packages/vtpnet
Branch: master
Last Commit: 9ed355f
Last Changed Date: 2021-05-19 11:59:05 -0400 (Wed, 19 May 2021)
nebbiolo2Linux (Ubuntu 20.04.2 LTS) / x86_64  OK    OK    OK  UNNEEDED, same version is already published
riesling1Windows Server 2019 Standard / x64  OK    OK    OK    OK  NO, package depends on 'gwascat' which is not available
merida1macOS 10.14.6 Mojave / x86_64  OK    OK    OK    OK  UNNEEDED, same version is already published

Summary

Package: vtpnet
Version: 0.33.0
Command: chmod a+r vtpnet -R && D:\biocbuild\bbs-3.14-bioc\R\bin\R.exe CMD build --keep-empty-dirs --no-resave-data vtpnet
StartedAt: 2021-06-20 22:40:08 -0400 (Sun, 20 Jun 2021)
EndedAt: 2021-06-20 22:43:31 -0400 (Sun, 20 Jun 2021)
EllapsedTime: 203.2 seconds
RetCode: 0
Status:   OK  
PackageFile: vtpnet_0.33.0.tar.gz
PackageFileSize: 20.12 MiB

Command output

##############################################################################
##############################################################################
###
### Running command:
###
###   chmod a+r vtpnet -R && D:\biocbuild\bbs-3.14-bioc\R\bin\R.exe CMD build --keep-empty-dirs --no-resave-data vtpnet
###
##############################################################################
##############################################################################


* checking for file 'vtpnet/DESCRIPTION' ... OK
* preparing 'vtpnet':
* checking DESCRIPTION meta-information ... OK
* installing the package to build vignettes
* creating vignettes ... OK
* checking for LF line-endings in source and make files and shell scripts
* checking for empty or unneeded directories
* looking to see if a 'data/datalist' file should be added
* building 'vtpnet_0.33.0.tar.gz'