Back to Multiple platform build/check report for BioC 3.14
ABCDEFGHIJKLMNOPQRSTU[V]WXYZ

BUILD BIN results for vtpnet on riesling1

This page was generated on 2021-06-16 12:05:20 -0400 (Wed, 16 Jun 2021).

Package 1966/1993HostnameOS / ArchINSTALLBUILDCHECKBUILD BIN
vtpnet 0.33.0  (landing page)
VJ Carey
Snapshot Date: 2021-06-15 14:50:06 -0400 (Tue, 15 Jun 2021)
URL: https://git.bioconductor.org/packages/vtpnet
Branch: master
Last Commit: 9ed355f
Last Changed Date: 2021-05-19 11:59:05 -0400 (Wed, 19 May 2021)
nebbiolo2Linux (Ubuntu 20.04.2 LTS) / x86_64  OK    OK    OK  UNNEEDED, same version is already published
riesling1Windows Server 2019 Standard / x64  OK    OK    OK    OK  NO, package depends on 'gwascat' which is not available
merida1macOS 10.14.6 Mojave / x86_64  OK    OK    OK    OK  UNNEEDED, same version is already published
To the developers/maintainers of the vtpnet package:
- Please allow up to 24 hours (and sometimes 48 hours) for your latest push to git@git.bioconductor.org:packages/vtpnet.git to
reflect on this report. See How and When does the builder pull? When will my changes propagate? here for more information.
- Make sure to use the following settings in order to reproduce any error or warning you see on this page.

Summary

Package: vtpnet
Version: 0.33.0
Command: rm -rf vtpnet.buildbin-libdir && mkdir vtpnet.buildbin-libdir && D:\biocbuild\bbs-3.14-bioc\R\bin\R.exe CMD INSTALL --merge-multiarch --build --library=vtpnet.buildbin-libdir vtpnet_0.33.0.tar.gz
StartedAt: 2021-06-16 05:56:37 -0400 (Wed, 16 Jun 2021)
EndedAt: 2021-06-16 06:00:29 -0400 (Wed, 16 Jun 2021)
EllapsedTime: 232.2 seconds
RetCode: 0
Status:   OK   
PackageFile: vtpnet_0.33.0.zip
PackageFileSize: 20.14 MiB

Command output

##############################################################################
##############################################################################
###
### Running command:
###
###   rm -rf vtpnet.buildbin-libdir && mkdir vtpnet.buildbin-libdir && D:\biocbuild\bbs-3.14-bioc\R\bin\R.exe CMD INSTALL --merge-multiarch --build --library=vtpnet.buildbin-libdir vtpnet_0.33.0.tar.gz
###
##############################################################################
##############################################################################



install for i386

* installing *source* package 'vtpnet' ...
** using staged installation
** R
** data
** inst
** byte-compile and prepare package for lazy loading
** help
*** installing help indices
  converting help for package 'vtpnet'
    finding HTML links ... done
    vtpnet-package                          html  
** building package indices
** installing vignettes
** testing if installed package can be loaded from temporary location
** testing if installed package can be loaded from final location
** testing if installed package keeps a record of temporary installation path

install for x64

* installing *source* package 'vtpnet' ...
** testing if installed package can be loaded
* MD5 sums
packaged installation of 'vtpnet' as vtpnet_0.33.0.zip
* DONE (vtpnet)