Back to Multiple platform build/check report for BioC 3.14
ABCDEFGHIJKLMNOPQRSTU[V]WXYZ

This page was generated on 2021-08-03 12:06:00 -0400 (Tue, 03 Aug 2021).

INSTALL results for vtpnet on nebbiolo2

To the developers/maintainers of the vtpnet package:
- Please allow up to 24 hours (and sometimes 48 hours) for your latest push to git@git.bioconductor.org:packages/vtpnet.git to
reflect on this report. See How and When does the builder pull? When will my changes propagate? here for more information.
- Make sure to use the following settings in order to reproduce any error or warning you see on this page.

raw results

Package 1988/2015HostnameOS / ArchINSTALLBUILDCHECKBUILD BIN
vtpnet 0.33.0  (landing page)
VJ Carey
Snapshot Date: 2021-08-02 14:50:09 -0400 (Mon, 02 Aug 2021)
URL: https://git.bioconductor.org/packages/vtpnet
Branch: master
Last Commit: 9ed355f
Last Changed Date: 2021-05-19 11:59:05 -0400 (Wed, 19 May 2021)
nebbiolo2Linux (Ubuntu 20.04.2 LTS) / x86_64  OK    OK    OK  UNNEEDED, same version is already published
riesling1Windows Server 2019 Standard / x64  OK    OK    OK    OK  UNNEEDED, same version is already published
merida1macOS 10.14.6 Mojave / x86_64  OK    OK    OK    OK  UNNEEDED, same version is already published

Summary

Package: vtpnet
Version: 0.33.0
Command: /home/biocbuild/bbs-3.14-bioc/R/bin/R CMD INSTALL vtpnet
StartedAt: 2021-08-02 16:26:43 -0400 (Mon, 02 Aug 2021)
EndedAt: 2021-08-02 16:27:28 -0400 (Mon, 02 Aug 2021)
EllapsedTime: 44.4 seconds
RetCode: 0
Status:   OK  

Command output

##############################################################################
##############################################################################
###
### Running command:
###
###   /home/biocbuild/bbs-3.14-bioc/R/bin/R CMD INSTALL vtpnet
###
##############################################################################
##############################################################################


* installing to library ‘/home/biocbuild/bbs-3.14-bioc/R/library’
* installing *source* package ‘vtpnet’ ...
** using staged installation
** R
** data
** byte-compile and prepare package for lazy loading
** help
*** installing help indices
** building package indices
** installing vignettes
** testing if installed package can be loaded from temporary location
** testing if installed package can be loaded from final location
** testing if installed package keeps a record of temporary installation path
* DONE (vtpnet)