Back to Multiple platform build/check report for BioC 3.14
ABCDEFGHIJKLMNOPQRSTU[V]WXYZ

This page was generated on 2021-10-22 12:04:16 -0400 (Fri, 22 Oct 2021).

BUILD results for vtpnet on nebbiolo2

To the developers/maintainers of the vtpnet package:
- Please allow up to 24 hours (and sometimes 48 hours) for your latest push to git@git.bioconductor.org:packages/vtpnet.git to
reflect on this report. See How and When does the builder pull? When will my changes propagate? here for more information.
- Make sure to use the following settings in order to reproduce any error or warning you see on this page.

raw results

Package 2048/2075HostnameOS / ArchINSTALLBUILDCHECKBUILD BIN
vtpnet 0.33.0  (landing page)
VJ Carey
Snapshot Date: 2021-10-21 14:50:08 -0400 (Thu, 21 Oct 2021)
git_url: https://git.bioconductor.org/packages/vtpnet
git_branch: master
git_last_commit: 9ed355f
git_last_commit_date: 2021-05-19 11:59:05 -0400 (Wed, 19 May 2021)
nebbiolo2Linux (Ubuntu 20.04.2 LTS) / x86_64  OK    OK    OK  UNNEEDED, same version is already published
riesling1Windows Server 2019 Standard / x64  OK    OK    OK    OK  UNNEEDED, same version is already published
merida1macOS 10.14.6 Mojave / x86_64  OK    OK    OK    NA  

Summary

Package: vtpnet
Version: 0.33.0
Command: /home/biocbuild/bbs-3.14-bioc/R/bin/R CMD build --keep-empty-dirs --no-resave-data vtpnet
StartedAt: 2021-10-21 18:55:34 -0400 (Thu, 21 Oct 2021)
EndedAt: 2021-10-21 18:56:55 -0400 (Thu, 21 Oct 2021)
EllapsedTime: 80.9 seconds
RetCode: 0
Status:   OK  
PackageFile: vtpnet_0.33.0.tar.gz
PackageFileSize: 20.12 MiB

Command output

##############################################################################
##############################################################################
###
### Running command:
###
###   /home/biocbuild/bbs-3.14-bioc/R/bin/R CMD build --keep-empty-dirs --no-resave-data vtpnet
###
##############################################################################
##############################################################################


* checking for file ‘vtpnet/DESCRIPTION’ ... OK
* preparing ‘vtpnet’:
* checking DESCRIPTION meta-information ... OK
* installing the package to build vignettes
* creating vignettes ... OK
* checking for LF line-endings in source and make files and shell scripts
* checking for empty or unneeded directories
* looking to see if a ‘data/datalist’ file should be added
* building ‘vtpnet_0.33.0.tar.gz’