Back to Multiple platform build/check report for BioC 3.14
ABCDEFGHIJKLMNOPQRSTU[V]WXYZ

This page was generated on 2021-09-16 12:05:09 -0400 (Thu, 16 Sep 2021).

All results for package vtpnet

To the developers/maintainers of the vtpnet package:
- Please allow up to 24 hours (and sometimes 48 hours) for your latest push to git@git.bioconductor.org:packages/vtpnet.git to
reflect on this report. See How and When does the builder pull? When will my changes propagate? here for more information.
- Make sure to use the following settings in order to reproduce any error or warning you see on this page.

raw results

Package 2002/2029HostnameOS / ArchINSTALLBUILDCHECKBUILD BIN
vtpnet 0.33.0  (landing page)
VJ Carey
Snapshot Date: 2021-09-15 14:50:10 -0400 (Wed, 15 Sep 2021)
git_url: https://git.bioconductor.org/packages/vtpnet
git_branch: master
git_last_commit: 9ed355f
git_last_commit_date: 2021-05-19 11:59:05 -0400 (Wed, 19 May 2021)
nebbiolo2Linux (Ubuntu 20.04.2 LTS) / x86_64  OK    OK    OK  UNNEEDED, same version is already published
riesling1Windows Server 2019 Standard / x64  OK    OK    OK    OK  UNNEEDED, same version is already published
merida1macOS 10.14.6 Mojave / x86_64  OK    OK    OK    OK  UNNEEDED, same version is already published