Index of /checkResults/devel/bioc-LATEST/tweeDEseq/raw-results/lconway

[ICO]NameLast modifiedSizeDescription

[DIR]Parent Directory  -  
[TXT]buildbin-out.txt19-Jul-2024 00:41 5.6K 
[   ]buildbin-summary.dcf19-Jul-2024 00:41 542  
[TXT]buildsrc-out.txt19-Jul-2024 00:41 917  
[   ]buildsrc-summary.dcf19-Jul-2024 00:41 434  
[TXT]checksrc-out.txt19-Jul-2024 00:41 4.2K 
[   ]checksrc-summary.dcf19-Jul-2024 00:41 457  
[TXT]install-out.txt19-Jul-2024 00:41 3.7K 
[   ]install-summary.dcf19-Jul-2024 00:41 272