Index of /checkResults/devel/bioc-LATEST/tweeDEseq/raw-results/kjohnson3

[ICO]NameLast modifiedSizeDescription

[DIR]Parent Directory  -  
[TXT]buildbin-out.txt24-Jul-2024 00:43 5.6K 
[   ]buildbin-summary.dcf24-Jul-2024 00:43 541  
[TXT]buildsrc-out.txt24-Jul-2024 00:43 917  
[   ]buildsrc-summary.dcf24-Jul-2024 00:43 434  
[TXT]checksrc-out.txt24-Jul-2024 00:43 4.2K 
[   ]checksrc-summary.dcf24-Jul-2024 00:43 457  
[TXT]install-out.txt24-Jul-2024 00:43 3.7K 
[   ]install-summary.dcf24-Jul-2024 00:43 272