Back to Multiple platform build/check report for BioC 3.14
ABCDEFGHIJKLMNOPQRS[T]UVWXYZ

This page was generated on 2021-09-21 12:06:24 -0400 (Tue, 21 Sep 2021).

INSTALL results for topGO on riesling1

To the developers/maintainers of the topGO package:
- Please allow up to 24 hours (and sometimes 48 hours) for your latest push to git@git.bioconductor.org:packages/topGO.git to
reflect on this report. See How and When does the builder pull? When will my changes propagate? here for more information.
- Make sure to use the following settings in order to reproduce any error or warning you see on this page.

raw results

Package 1924/2029HostnameOS / ArchINSTALLBUILDCHECKBUILD BIN
topGO 2.45.0  (landing page)
Adrian Alexa
Snapshot Date: 2021-09-20 14:50:09 -0400 (Mon, 20 Sep 2021)
git_url: https://git.bioconductor.org/packages/topGO
git_branch: master
git_last_commit: 6c5d391
git_last_commit_date: 2021-05-19 11:38:47 -0400 (Wed, 19 May 2021)
nebbiolo2Linux (Ubuntu 20.04.2 LTS) / x86_64  OK    OK    OK  UNNEEDED, same version is already published
riesling1Windows Server 2019 Standard / x64  OK    OK    OK    OK  UNNEEDED, same version is already published
merida1macOS 10.14.6 Mojave / x86_64  OK    OK    OK    NA  

Summary

Package: topGO
Version: 2.45.0
Command: C:\cygwin\bin\curl.exe -O http://155.52.207.166/BBS/3.14/bioc/src/contrib/topGO_2.45.0.tar.gz && rm -rf topGO.buildbin-libdir && mkdir topGO.buildbin-libdir && D:\biocbuild\bbs-3.14-bioc\R\bin\R.exe CMD INSTALL --merge-multiarch --build --library=topGO.buildbin-libdir topGO_2.45.0.tar.gz && D:\biocbuild\bbs-3.14-bioc\R\bin\R.exe CMD INSTALL topGO_2.45.0.zip && rm topGO_2.45.0.tar.gz topGO_2.45.0.zip
StartedAt: 2021-09-20 17:23:17 -0400 (Mon, 20 Sep 2021)
EndedAt: 2021-09-20 17:26:16 -0400 (Mon, 20 Sep 2021)
EllapsedTime: 178.5 seconds
RetCode: 0
Status:   OK  

Command output

##############################################################################
##############################################################################
###
### Running command:
###
###   C:\cygwin\bin\curl.exe -O http://155.52.207.166/BBS/3.14/bioc/src/contrib/topGO_2.45.0.tar.gz && rm -rf topGO.buildbin-libdir && mkdir topGO.buildbin-libdir && D:\biocbuild\bbs-3.14-bioc\R\bin\R.exe CMD INSTALL --merge-multiarch --build --library=topGO.buildbin-libdir topGO_2.45.0.tar.gz && D:\biocbuild\bbs-3.14-bioc\R\bin\R.exe CMD INSTALL topGO_2.45.0.zip && rm topGO_2.45.0.tar.gz topGO_2.45.0.zip
###
##############################################################################
##############################################################################


  % Total    % Received % Xferd  Average Speed   Time    Time     Time  Current
                                 Dload  Upload   Total   Spent    Left  Speed

  0     0    0     0    0     0      0      0 --:--:-- --:--:-- --:--:--     0
100  424k  100  424k    0     0  1609k      0 --:--:-- --:--:-- --:--:-- 1609k

install for i386

* installing *source* package 'topGO' ...
** using staged installation
** R
** data
** inst
** byte-compile and prepare package for lazy loading
** help
*** installing help indices
  converting help for package 'topGO'
    finding HTML links ... done
    GOTests                                 html  
    GOdata                                  html  
    annFUN                                  html  
    classicCount-class                      html  
    classicExpr-class                       html  
    classicScore-class                      html  
    dagFunctions                            html  
    diagnosticMethods                       html  
    elimCount-class                         html  
    elimExpr-class                          html  
    elimScore-class                         html  
    geneList                                html  
    getPvalues                              html  
    getSigGroups                            html  
    groupGOTerms                            html  
    groupStats-class                        html  
    inducedGraph                            html  
    parentChild-class                       html  
    printGraph-methods                      html  
    topGO-package                           html  
    topGOdata-class                         html  
    topGOresult-class                       html  
    weightCount-class                       html  
** building package indices
** installing vignettes
** testing if installed package can be loaded from temporary location

groupGOTerms: 	GOBPTerm, GOMFTerm, GOCCTerm environments built.
** testing if installed package can be loaded from final location

groupGOTerms: 	GOBPTerm, GOMFTerm, GOCCTerm environments built.
** testing if installed package keeps a record of temporary installation path

install for x64

* installing *source* package 'topGO' ...
** testing if installed package can be loaded

groupGOTerms: 	GOBPTerm, GOMFTerm, GOCCTerm environments built.
* MD5 sums
packaged installation of 'topGO' as topGO_2.45.0.zip
* DONE (topGO)
* installing to library 'D:/biocbuild/bbs-3.14-bioc/R/library'
package 'topGO' successfully unpacked and MD5 sums checked