Back to Multiple platform build/check report for BioC 3.14
ABCDEFGHIJKLMNOPQRS[T]UVWXYZ

This page was generated on 2021-09-25 12:05:52 -0400 (Sat, 25 Sep 2021).

CHECK results for topGO on riesling1

To the developers/maintainers of the topGO package:
- Please allow up to 24 hours (and sometimes 48 hours) for your latest push to git@git.bioconductor.org:packages/topGO.git to
reflect on this report. See How and When does the builder pull? When will my changes propagate? here for more information.
- Make sure to use the following settings in order to reproduce any error or warning you see on this page.

raw results

Package 1929/2034HostnameOS / ArchINSTALLBUILDCHECKBUILD BIN
topGO 2.45.0  (landing page)
Adrian Alexa
Snapshot Date: 2021-09-24 14:50:08 -0400 (Fri, 24 Sep 2021)
git_url: https://git.bioconductor.org/packages/topGO
git_branch: master
git_last_commit: 6c5d391
git_last_commit_date: 2021-05-19 11:38:47 -0400 (Wed, 19 May 2021)
nebbiolo2Linux (Ubuntu 20.04.2 LTS) / x86_64  OK    OK    OK  UNNEEDED, same version is already published
riesling1Windows Server 2019 Standard / x64  OK    OK    OK    OK  UNNEEDED, same version is already published
merida1macOS 10.14.6 Mojave / x86_64  OK    OK    OK    NA  

Summary

Package: topGO
Version: 2.45.0
Command: D:\biocbuild\bbs-3.14-bioc\R\bin\R.exe CMD check --force-multiarch --install=check:topGO.install-out.txt --library=D:\biocbuild\bbs-3.14-bioc\R\library --no-vignettes --timings topGO_2.45.0.tar.gz
StartedAt: 2021-09-25 03:47:04 -0400 (Sat, 25 Sep 2021)
EndedAt: 2021-09-25 03:52:31 -0400 (Sat, 25 Sep 2021)
EllapsedTime: 326.3 seconds
RetCode: 0
Status:   OK  
CheckDir: topGO.Rcheck
Warnings: 0

Command output

##############################################################################
##############################################################################
###
### Running command:
###
###   D:\biocbuild\bbs-3.14-bioc\R\bin\R.exe CMD check --force-multiarch --install=check:topGO.install-out.txt --library=D:\biocbuild\bbs-3.14-bioc\R\library --no-vignettes --timings topGO_2.45.0.tar.gz
###
##############################################################################
##############################################################################


* using log directory 'D:/biocbuild/bbs-3.14-bioc/meat/topGO.Rcheck'
* using R version 4.1.1 (2021-08-10)
* using platform: x86_64-w64-mingw32 (64-bit)
* using session charset: ISO8859-1
* using option '--no-vignettes'
* checking for file 'topGO/DESCRIPTION' ... OK
* checking extension type ... Package
* this is package 'topGO' version '2.45.0'
* checking package namespace information ... OK
* checking package dependencies ... NOTE
Depends: includes the non-default packages:
  'BiocGenerics', 'graph', 'Biobase', 'GO.db', 'AnnotationDbi',
  'SparseM'
Adding so many packages to the search path is excessive and importing
selectively is preferable.
* checking if this is a source package ... OK
* checking if there is a namespace ... OK
* checking for hidden files and directories ... OK
* checking for portable file names ... OK
* checking whether package 'topGO' can be installed ... OK
* checking installed package size ... OK
* checking package directory ... OK
* checking 'build' directory ... OK
* checking DESCRIPTION meta-information ... OK
* checking top-level files ... OK
* checking for left-over files ... OK
* checking index information ... OK
* checking package subdirectories ... OK
* checking R files for non-ASCII characters ... OK
* checking R files for syntax errors ... OK
* loading checks for arch 'i386'
** checking whether the package can be loaded ... OK
** checking whether the package can be loaded with stated dependencies ... OK
** checking whether the package can be unloaded cleanly ... OK
** checking whether the namespace can be loaded with stated dependencies ... OK
** checking whether the namespace can be unloaded cleanly ... OK
* loading checks for arch 'x64'
** checking whether the package can be loaded ... OK
** checking whether the package can be loaded with stated dependencies ... OK
** checking whether the package can be unloaded cleanly ... OK
** checking whether the namespace can be loaded with stated dependencies ... OK
** checking whether the namespace can be unloaded cleanly ... OK
* checking dependencies in R code ... NOTE
'library' or 'require' calls in package code:
  'Rgraphviz' 'multtest'
  Please use :: or requireNamespace() instead.
  See section 'Suggested packages' in the 'Writing R Extensions' manual.
Missing object imported by a ':::' call: 'globaltest:::globaltest'
* checking S3 generic/method consistency ... OK
* checking replacement functions ... OK
* checking foreign function calls ... OK
* checking R code for possible problems ... NOTE
GOplot: no visible global function definition for 'getDefaultAttrs'
GOplot: no visible global function definition for 'agopen'
GOplot.counts : plotSigChart : buildDrawing : <anonymous>: no visible
  global function definition for 'getNodeCenter'
GOplot.counts : plotSigChart : buildDrawing : <anonymous>: no visible
  global function definition for 'pieGlyph'
GOplot.counts : plotSigChart : buildDrawing : <anonymous>: no visible
  global function definition for 'getX'
GOplot.counts : plotSigChart : buildDrawing : <anonymous>: no visible
  global function definition for 'getY'
GOplot.counts : plotSigChart : buildDrawing : <anonymous>: no visible
  global function definition for 'getNodeLW'
GOplot.counts : plotSigChart : buildDrawing : <anonymous>: no visible
  global function definition for 'drawTxtLabel'
GOplot.counts : plotSigChart : buildDrawing : <anonymous>: no visible
  global function definition for 'txtLabel'
GOplot.counts : plotSigChart: no visible global function definition for
  'AgNode'
GOplot.counts : plotSigChart : <anonymous>: no visible global function
  definition for 'name'
GOplot.counts : plotSigChart : <anonymous>: no visible global function
  definition for 'getNodeCenter'
GOplot.counts : plotSigChart: no visible global function definition for
  'getNodeXY'
GOplot.counts : plotSigChart: no visible global function definition for
  'getY'
GOplot.counts: no visible global function definition for
  'getDefaultAttrs'
GOplot.counts: no visible global function definition for 'agopen'
getPvalues: no visible global function definition for 'mt.teststat'
getPvalues: no visible global function definition for 'mt.rawp2adjp'
printDOT: no visible global function definition for 'getDefaultAttrs'
printDOT: no visible global function definition for 'toDot'
GOSumTest,classicScore: no visible binding for global variable
  '.PERMSUM.MAT'
GOSumTest,classicScore: no visible binding for global variable
  '.PERMSUM.LOOKUP'
initialize,classicExpr: no visible global function definition for
  'error'
scoresInTerm,topGOdata-missing: no visible global function definition
  for 'scoreInNode'
Undefined global functions or variables:
  .PERMSUM.LOOKUP .PERMSUM.MAT AgNode agopen drawTxtLabel error
  getDefaultAttrs getNodeCenter getNodeLW getNodeXY getX getY
  mt.rawp2adjp mt.teststat name pieGlyph scoreInNode toDot txtLabel
* checking Rd files ... OK
* checking Rd metadata ... OK
* checking Rd cross-references ... OK
* checking for missing documentation entries ... OK
* checking for code/documentation mismatches ... OK
* checking Rd \usage sections ... OK
* checking Rd contents ... OK
* checking for unstated dependencies in examples ... OK
* checking contents of 'data' directory ... OK
* checking data for non-ASCII characters ... OK
* checking data for ASCII and uncompressed saves ... OK
* checking files in 'vignettes' ... OK
* checking examples ...
** running examples for arch 'i386' ... OK
** running examples for arch 'x64' ... OK
* checking for unstated dependencies in vignettes ... OK
* checking package vignettes in 'inst/doc' ... OK
* checking running R code from vignettes ... SKIPPED
* checking re-building of vignette outputs ... SKIPPED
* checking PDF version of manual ... OK
* DONE

Status: 3 NOTEs
See
  'D:/biocbuild/bbs-3.14-bioc/meat/topGO.Rcheck/00check.log'
for details.



Installation output

topGO.Rcheck/00install.out

##############################################################################
##############################################################################
###
### Running command:
###
###   C:\cygwin\bin\curl.exe -O http://155.52.207.166/BBS/3.14/bioc/src/contrib/topGO_2.45.0.tar.gz && rm -rf topGO.buildbin-libdir && mkdir topGO.buildbin-libdir && D:\biocbuild\bbs-3.14-bioc\R\bin\R.exe CMD INSTALL --merge-multiarch --build --library=topGO.buildbin-libdir topGO_2.45.0.tar.gz && D:\biocbuild\bbs-3.14-bioc\R\bin\R.exe CMD INSTALL topGO_2.45.0.zip && rm topGO_2.45.0.tar.gz topGO_2.45.0.zip
###
##############################################################################
##############################################################################


  % Total    % Received % Xferd  Average Speed   Time    Time     Time  Current
                                 Dload  Upload   Total   Spent    Left  Speed

  0     0    0     0    0     0      0      0 --:--:-- --:--:-- --:--:--     0
100  424k  100  424k    0     0  1609k      0 --:--:-- --:--:-- --:--:-- 1609k

install for i386

* installing *source* package 'topGO' ...
** using staged installation
** R
** data
** inst
** byte-compile and prepare package for lazy loading
** help
*** installing help indices
  converting help for package 'topGO'
    finding HTML links ... done
    GOTests                                 html  
    GOdata                                  html  
    annFUN                                  html  
    classicCount-class                      html  
    classicExpr-class                       html  
    classicScore-class                      html  
    dagFunctions                            html  
    diagnosticMethods                       html  
    elimCount-class                         html  
    elimExpr-class                          html  
    elimScore-class                         html  
    geneList                                html  
    getPvalues                              html  
    getSigGroups                            html  
    groupGOTerms                            html  
    groupStats-class                        html  
    inducedGraph                            html  
    parentChild-class                       html  
    printGraph-methods                      html  
    topGO-package                           html  
    topGOdata-class                         html  
    topGOresult-class                       html  
    weightCount-class                       html  
** building package indices
** installing vignettes
** testing if installed package can be loaded from temporary location

groupGOTerms: 	GOBPTerm, GOMFTerm, GOCCTerm environments built.
** testing if installed package can be loaded from final location

groupGOTerms: 	GOBPTerm, GOMFTerm, GOCCTerm environments built.
** testing if installed package keeps a record of temporary installation path

install for x64

* installing *source* package 'topGO' ...
** testing if installed package can be loaded

groupGOTerms: 	GOBPTerm, GOMFTerm, GOCCTerm environments built.
* MD5 sums
packaged installation of 'topGO' as topGO_2.45.0.zip
* DONE (topGO)
* installing to library 'D:/biocbuild/bbs-3.14-bioc/R/library'
package 'topGO' successfully unpacked and MD5 sums checked

Tests output


Example timings

topGO.Rcheck/examples_i386/topGO-Ex.timings

nameusersystemelapsed
GOdata0.030.000.03
annFUN0.670.050.72
classicCount-class000
classicExpr-class000
classicScore-class000
dagFunctions000
diagnosticMethods0.20.00.2
elimExpr-class000
elimScore-class000
geneList000
getPvalues2.750.202.96
getSigGroups1.880.031.90
groupGOTerms0.20.00.2
inducedGraph0.030.000.03
parentChild-class000
printGraph-methods000
topGOdata-class3.280.043.33
topGOresult-class0.020.020.03

topGO.Rcheck/examples_x64/topGO-Ex.timings

nameusersystemelapsed
GOdata0.030.020.05
annFUN0.850.060.90
classicCount-class000
classicExpr-class000
classicScore-class0.020.000.02
dagFunctions000
diagnosticMethods0.340.000.34
elimExpr-class000
elimScore-class000
geneList0.020.000.02
getPvalues2.570.162.73
getSigGroups2.020.012.03
groupGOTerms0.200.020.22
inducedGraph0.050.000.05
parentChild-class000
printGraph-methods000
topGOdata-class3.500.153.65
topGOresult-class0.030.000.03