Index of /checkResults/devel/bioc-LATEST/topGO/raw-results/riesling1

[ICO]NameLast modifiedSizeDescription

[DIR]Parent Directory  -  
[TXT]buildbin-out.txt25-Jan-2022 01:08 2.4K 
[   ]buildbin-summary.dcf25-Jan-2022 01:08 503  
[TXT]buildsrc-out.txt25-Jan-2022 01:08 889  
[   ]buildsrc-summary.dcf25-Jan-2022 01:08 445  
[TXT]checksrc-out.txt25-Jan-2022 01:08 6.0K 
[   ]checksrc-summary.dcf25-Jan-2022 01:08 439  
[TXT]install-out.txt25-Jan-2022 01:08 2.5K 
[   ]install-summary.dcf25-Jan-2022 01:08 264