Index of /checkResults/devel/bioc-LATEST/topGO/raw-results/merida1

[ICO]NameLast modifiedSizeDescription

[DIR]Parent Directory  -  
[TXT]buildbin-out.txt29-Jan-2022 01:13 1.3K 
[   ]buildbin-summary.dcf29-Jan-2022 01:13 518  
[TXT]buildsrc-out.txt29-Jan-2022 01:13 871  
[   ]buildsrc-summary.dcf29-Jan-2022 01:13 422  
[TXT]checksrc-out.txt29-Jan-2022 01:13 6.4K 
[   ]checksrc-summary.dcf29-Jan-2022 01:13 436  
[TXT]install-out.txt29-Jan-2022 01:13 1.1K 
[   ]install-summary.dcf29-Jan-2022 01:13 265