Back to Multiple platform build/check report for BioC 3.19:   simplified   long
ABCDEFGHIJKLMNOPQRS[T]UVWXYZ

This page was generated on 2024-03-28 11:36:04 -0400 (Thu, 28 Mar 2024).

HostnameOSArch (*)R versionInstalled pkgs
nebbiolo1Linux (Ubuntu 22.04.3 LTS)x86_64R Under development (unstable) (2024-03-18 r86148) -- "Unsuffered Consequences" 4708
palomino3Windows Server 2022 Datacenterx64R Under development (unstable) (2024-03-16 r86144 ucrt) -- "Unsuffered Consequences" 4446
lconwaymacOS 12.7.1 Montereyx86_64R Under development (unstable) (2024-03-18 r86148) -- "Unsuffered Consequences" 4471
kunpeng2Linux (openEuler 22.03 LTS-SP1)aarch64R Under development (unstable) (2024-03-19 r86153) -- "Unsuffered Consequences" 4426
Click on any hostname to see more info about the system (e.g. compilers)      (*) as reported by 'uname -p', except on Windows and Mac OS X

All results for package tidybulk


To the developers/maintainers of the tidybulk package:
- Allow up to 24 hours (and sometimes 48 hours) for your latest push to git@git.bioconductor.org:packages/tidybulk.git to reflect on this report. See Troubleshooting Build Report for more information.
- Use the following Renviron settings to reproduce errors and warnings.
- If 'R CMD check' started to fail recently on the Linux builder(s) over a missing dependency, add the missing dependency to 'Suggests:' in your DESCRIPTION file. See Renviron.bioc for more information.

raw results

Package 2126/2270HostnameOS / ArchINSTALLBUILDCHECKBUILD BIN
tidybulk 1.15.5  (landing page)
Stefano Mangiola
Snapshot Date: 2024-03-27 14:00:18 -0400 (Wed, 27 Mar 2024)
git_url: https://git.bioconductor.org/packages/tidybulk
git_branch: devel
git_last_commit: c09236a
git_last_commit_date: 2024-02-06 20:40:21 -0400 (Tue, 06 Feb 2024)
nebbiolo1Linux (Ubuntu 22.04.3 LTS) / x86_64  OK    OK    ERROR  
palomino3Windows Server 2022 Datacenter / x64  OK    OK    ERROR    OK  
lconwaymacOS 12.7.1 Monterey / x86_64  OK    OK    ERROR    OK  
kunpeng2Linux (openEuler 22.03 LTS-SP1) / aarch64  OK    OK    ERROR  

Results for Bioconductor software packages that depend directly on package tidybulk

QUICK STATSOS / ArchINSTALLBUILDCHECKBUILD BIN
nebbiolo1Linux (Ubuntu 22.04.3 LTS) / x86_64
001
001
0010
palomino3Windows Server 2022 Datacenter / x64
001
001
0010
001
lconwaymacOS 12.7.1 Monterey / x86_64
001
001
0010
001
kunpeng2Linux (openEuler 22.03 LTS-SP1) / aarch64
001
001
0010
Package 1/1HostnameOS / ArchINSTALLBUILDCHECKBUILD BIN
tidyomics 0.99.7  (landing page)
Stefano Mangiola
git_last_commit: bf1f508
git_last_commit_date: 2024-02-20 18:56:42 -0400
nebbiolo1Linux (Ubuntu 22.04.3 LTS) / x86_64  OK    OK    WARNINGS  UNNEEDED, same version is already published
palomino3Windows Server 2022 Datacenter / x64  OK    OK    WARNINGS    OK  UNNEEDED, same version is already published
lconwaymacOS 12.7.1 Monterey / x86_64  OK    OK    WARNINGS    OK  UNNEEDED, same version is already published
kunpeng2Linux (openEuler 22.03 LTS-SP1) / aarch64  OK    OK    WARNINGS