Index of /checkResults/devel/bioc-LATEST/tRNA/raw-results/nebbiolo2

[ICO]NameLast modifiedSizeDescription

[DIR]Parent Directory  -  
[TXT]buildsrc-out.txt23-Jul-2024 01:44 818  
[   ]buildsrc-summary.dcf23-Jul-2024 01:44 415  
[TXT]checksrc-out.txt23-Jul-2024 01:44 3.7K 
[   ]checksrc-summary.dcf23-Jul-2024 01:44 402  
[TXT]install-out.txt23-Jul-2024 01:44 1.0K 
[   ]install-summary.dcf23-Jul-2024 01:44 253