Index of /checkResults/devel/bioc-LATEST/tRNA/raw-results/lconway

[ICO]NameLast modifiedSizeDescription

[DIR]Parent Directory  -  
[TXT]buildbin-out.txt23-Jul-2024 01:45 1.2K 
[   ]buildbin-summary.dcf23-Jul-2024 01:45 512  
[TXT]buildsrc-out.txt23-Jul-2024 01:45 804  
[   ]buildsrc-summary.dcf23-Jul-2024 01:45 419  
[TXT]checksrc-out.txt23-Jul-2024 01:45 3.8K 
[   ]checksrc-summary.dcf23-Jul-2024 01:45 432  
[TXT]install-out.txt23-Jul-2024 01:45 1.0K 
[   ]install-summary.dcf23-Jul-2024 01:45 263