Index of /checkResults/devel/bioc-LATEST/spatzie/raw-results/nebbiolo2

[ICO]NameLast modifiedSizeDescription

[DIR]Parent Directory  -  
[TXT]install-out.txt13-Jul-2024 01:30 1.0K 
[   ]install-summary.dcf13-Jul-2024 01:30 259  
[   ]buildsrc-summary.dcf13-Jul-2024 01:30 423  
[TXT]buildsrc-out.txt13-Jul-2024 01:30 830  
[TXT]checksrc-out.txt13-Jul-2024 01:30 3.5K 
[   ]checksrc-summary.dcf13-Jul-2024 01:30 414