Index of /checkResults/devel/bioc-LATEST/spatzie/raw-results/kjohnson3

[ICO]NameLast modifiedSizeDescription

[DIR]Parent Directory  -  
[TXT]buildbin-out.txt18-Jul-2024 00:43 1.2K 
[   ]buildbin-summary.dcf18-Jul-2024 00:43 530  
[TXT]buildsrc-out.txt18-Jul-2024 00:43 816  
[   ]buildsrc-summary.dcf18-Jul-2024 00:43 427  
[TXT]checksrc-out.txt18-Jul-2024 00:43 3.5K 
[   ]checksrc-summary.dcf18-Jul-2024 00:43 444  
[TXT]install-out.txt18-Jul-2024 00:43 1.0K 
[   ]install-summary.dcf18-Jul-2024 00:43 269