Index of /checkResults/devel/bioc-LATEST/singleCellTK/raw-results/kjohnson3

[ICO]NameLast modifiedSizeDescription

[DIR]Parent Directory  -  
[TXT]buildbin-out.txt18-Jul-2024 00:43 1.2K 
[   ]buildbin-summary.dcf18-Jul-2024 00:43 560  
[TXT]buildsrc-out.txt18-Jul-2024 00:43 899  
[   ]buildsrc-summary.dcf18-Jul-2024 00:43 442  
[TXT]checksrc-out.txt18-Jul-2024 00:43 5.4K 
[   ]checksrc-summary.dcf18-Jul-2024 00:43 464  
[TXT]install-out.txt18-Jul-2024 00:43 1.0K 
[   ]install-summary.dcf18-Jul-2024 00:43 279