Index of /checkResults/devel/bioc-LATEST/singleCellTK/raw-results

[ICO]NameLast modifiedSizeDescription

[DIR]Parent Directory  -  
[DIR]palomino8/18-Jul-2024 00:40 -  
[DIR]palomino6/17-Jul-2024 00:41 -  
[DIR]palomino4/12-Jun-2024 04:41 -  
[DIR]nebbiolo2/18-Jul-2024 00:39 -  
[DIR]merida1/12-Jun-2024 04:42 -  
[DIR]lconway/18-Jul-2024 00:41 -  
[DIR]kunpeng2/09-Jul-2024 00:45 -  
[DIR]kjohnson3/18-Jul-2024 00:43 -  
[DIR]kjohnson1/12-Jun-2024 04:43 -  
[   ]info.dcf18-Jul-2024 00:38 274