Index of /checkResults/devel/bioc-LATEST/signifinder/raw-results/nebbiolo2

[ICO]NameLast modifiedSizeDescription

[DIR]Parent Directory  -  
[TXT]checksrc-out.txt04-Jul-2024 00:39 3.5K 
[   ]checksrc-summary.dcf04-Jul-2024 00:39 429  
[TXT]install-out.txt19-Jul-2024 00:39 651  
[   ]install-summary.dcf19-Jul-2024 00:39 268  
[TXT]buildsrc-out.txt19-Jul-2024 00:39 903  
[   ]buildsrc-summary.dcf19-Jul-2024 00:39 345