Index of /checkResults/devel/bioc-LATEST/signifinder/raw-results/nebbiolo2

[ICO]NameLast modifiedSizeDescription

[DIR]Parent Directory  -  
[TXT]buildsrc-out.txt18-Jun-2024 01:23 908  
[   ]buildsrc-summary.dcf18-Jun-2024 01:23 434  
[TXT]checksrc-out.txt18-Jun-2024 01:23 3.5K 
[   ]checksrc-summary.dcf18-Jun-2024 01:23 429  
[TXT]install-out.txt18-Jun-2024 01:23 1.0K 
[   ]install-summary.dcf18-Jun-2024 01:23 266