Back to Multiple platform build/check report for BioC 3.14
ABCDEFGHIJKLMNOPQR[S]TUVWXYZ

All results for package signatureSearch

This page was generated on 2021-06-15 12:05:04 -0400 (Tue, 15 Jun 2021).

Package 1717/1993HostnameOS / ArchINSTALLBUILDCHECKBUILD BIN
signatureSearch 1.7.1  (landing page)
Yuzhu Duan
Snapshot Date: 2021-06-14 14:50:10 -0400 (Mon, 14 Jun 2021)
URL: https://git.bioconductor.org/packages/signatureSearch
Branch: master
Last Commit: 0ed7637
Last Changed Date: 2021-05-20 23:32:51 -0400 (Thu, 20 May 2021)
nebbiolo2Linux (Ubuntu 20.04.2 LTS) / x86_64  OK    ERROR  skipped
riesling1Windows Server 2019 Standard / x64  OK    ERROR  skippedskipped
merida1macOS 10.14.6 Mojave / x86_64  OK    ERROR  skippedskipped