Back to Multiple platform build/check report for BioC 3.14
ABCDEFGHIJKLMNOPQR[S]TUVWXYZ

This page was generated on 2021-07-24 12:06:14 -0400 (Sat, 24 Jul 2021).

INSTALL results for sigFeature on riesling1

To the developers/maintainers of the sigFeature package:
- Please allow up to 24 hours (and sometimes 48 hours) for your latest push to git@git.bioconductor.org:packages/sigFeature.git to
reflect on this report. See How and When does the builder pull? When will my changes propagate? here for more information.
- Make sure to use the following settings in order to reproduce any error or warning you see on this page.

raw results

Package 1727/2008HostnameOS / ArchINSTALLBUILDCHECKBUILD BIN
sigFeature 1.11.0  (landing page)
Pijush Das Developer
Snapshot Date: 2021-07-23 14:50:08 -0400 (Fri, 23 Jul 2021)
URL: https://git.bioconductor.org/packages/sigFeature
Branch: master
Last Commit: 1e8d782
Last Changed Date: 2021-05-19 12:35:56 -0400 (Wed, 19 May 2021)
nebbiolo2Linux (Ubuntu 20.04.2 LTS) / x86_64  OK    ERROR  skipped
riesling1Windows Server 2019 Standard / x64  OK    OK    OK    OK  UNNEEDED, same version is already published
merida1macOS 10.14.6 Mojave / x86_64  OK    ERROR  skippedskipped

Summary

Package: sigFeature
Version: 1.11.0
Command: C:\cygwin\bin\curl.exe -O http://155.52.207.166/BBS/3.14/bioc/src/contrib/sigFeature_1.11.0.tar.gz && rm -rf sigFeature.buildbin-libdir && mkdir sigFeature.buildbin-libdir && D:\biocbuild\bbs-3.14-bioc\R\bin\R.exe CMD INSTALL --merge-multiarch --build --library=sigFeature.buildbin-libdir sigFeature_1.11.0.tar.gz && D:\biocbuild\bbs-3.14-bioc\R\bin\R.exe CMD INSTALL sigFeature_1.11.0.zip && rm sigFeature_1.11.0.tar.gz sigFeature_1.11.0.zip
StartedAt: 2021-07-23 17:29:32 -0400 (Fri, 23 Jul 2021)
EndedAt: 2021-07-23 17:32:04 -0400 (Fri, 23 Jul 2021)
EllapsedTime: 152.1 seconds
RetCode: 0
Status:   OK  

Command output

##############################################################################
##############################################################################
###
### Running command:
###
###   C:\cygwin\bin\curl.exe -O http://155.52.207.166/BBS/3.14/bioc/src/contrib/sigFeature_1.11.0.tar.gz && rm -rf sigFeature.buildbin-libdir && mkdir sigFeature.buildbin-libdir && D:\biocbuild\bbs-3.14-bioc\R\bin\R.exe CMD INSTALL --merge-multiarch --build --library=sigFeature.buildbin-libdir sigFeature_1.11.0.tar.gz && D:\biocbuild\bbs-3.14-bioc\R\bin\R.exe CMD INSTALL sigFeature_1.11.0.zip && rm sigFeature_1.11.0.tar.gz sigFeature_1.11.0.zip
###
##############################################################################
##############################################################################


  % Total    % Received % Xferd  Average Speed   Time    Time     Time  Current
                                 Dload  Upload   Total   Spent    Left  Speed

  0     0    0     0    0     0      0      0 --:--:-- --:--:-- --:--:--     0
100  241k  100  241k    0     0  1633k      0 --:--:-- --:--:-- --:--:-- 1633k

install for i386

* installing *source* package 'sigFeature' ...
** using staged installation
** R
** data
*** moving datasets to lazyload DB
** inst
** byte-compile and prepare package for lazy loading
** help
*** installing help indices
  converting help for package 'sigFeature'
    finding HTML links ... done
    ExampleRawData                          html  
    PlotErrors                              html  
    WritesigFeature                         html  
    featsweepSigFe                          html  
    featureRankedList                       html  
    results                                 html  
    sigCVError                              html  
    sigFeature                              html  
    sigFeature.enfold                       html  
    sigFeatureFrequency                     html  
    sigFeaturePvalue                        html  
    sigfeatureRankedList                    html  
    svmrfeFeatureRanking                    html  
** building package indices
** installing vignettes
** testing if installed package can be loaded from temporary location
** testing if installed package can be loaded from final location
** testing if installed package keeps a record of temporary installation path

install for x64

* installing *source* package 'sigFeature' ...
** testing if installed package can be loaded
* MD5 sums
packaged installation of 'sigFeature' as sigFeature_1.11.0.zip
* DONE (sigFeature)
* installing to library 'D:/biocbuild/bbs-3.14-bioc/R/library'
package 'sigFeature' successfully unpacked and MD5 sums checked